BEGIN:VCALENDAR
VERSION:2.0
PRODID:-//Death Magnetic - ECPv5.10.1//NONSGML v1.0//EN
CALSCALE:GREGORIAN
METHOD:PUBLISH
X-WR-CALNAME:Death Magnetic
X-ORIGINAL-URL:https://deathmagnetic.pl
X-WR-CALDESC:Events for Death Magnetic
BEGIN:VTIMEZONE
TZID:Europe/Warsaw
BEGIN:DAYLIGHT
TZOFFSETFROM:+0100
TZOFFSETTO:+0200
TZNAME:CEST
DTSTART:20150329T010000
END:DAYLIGHT
BEGIN:STANDARD
TZOFFSETFROM:+0200
TZOFFSETTO:+0100
TZNAME:CET
DTSTART:20151025T010000
END:STANDARD
END:VTIMEZONE
BEGIN:VEVENT
DTSTART;TZID=Europe/Warsaw:20150718T190000
DTEND;TZID=Europe/Warsaw:20150718T230000
DTSTAMP:20260420T191529
CREATED:20150624T134428Z
LAST-MODIFIED:20150624T134428Z
UID:87031-1437246000-1437260400@deathmagnetic.pl
SUMMARY:Striker + Dirty Bastards + Incineration
DESCRIPTION:Ceny biletów (przedsprzedaż / w dniu koncertu): 15zł / 20zł \nStart: 19:00
URL:https://deathmagnetic.pl/wydarzenie/striker-dirty-bastards-incineration/
LOCATION:Kosmos Music Klub\, al. Wyzwolenia 18\, Szczecin\, 70-532\, Polska
CATEGORIES:Koncerty,zagraniczne
ATTACH;FMTTYPE=image/png:https://deathmagnetic.pl/wp-content/uploads/2015/06/poster-18-07-15.png
GEO:53.434274;14.554717
X-APPLE-STRUCTURED-LOCATION;VALUE=URI;X-ADDRESS=Kosmos Music Klub al. Wyzwolenia 18 Szczecin 70-532 Polska;X-APPLE-RADIUS=500;X-TITLE=al. Wyzwolenia 18:geo:14.554717,53.434274
END:VEVENT
END:VCALENDAR