BEGIN:VCALENDAR
VERSION:2.0
PRODID:-//Death Magnetic - ECPv5.10.1//NONSGML v1.0//EN
CALSCALE:GREGORIAN
METHOD:PUBLISH
X-WR-CALNAME:Death Magnetic
X-ORIGINAL-URL:https://deathmagnetic.pl
X-WR-CALDESC:Events for Death Magnetic
BEGIN:VTIMEZONE
TZID:Europe/Warsaw
BEGIN:DAYLIGHT
TZOFFSETFROM:+0100
TZOFFSETTO:+0200
TZNAME:CEST
DTSTART:20180325T010000
END:DAYLIGHT
BEGIN:STANDARD
TZOFFSETFROM:+0200
TZOFFSETTO:+0100
TZNAME:CET
DTSTART:20181028T010000
END:STANDARD
END:VTIMEZONE
BEGIN:VEVENT
DTSTART;TZID=Europe/Warsaw:20180407T190000
DTEND;TZID=Europe/Warsaw:20180407T220000
DTSTAMP:20260421T092447
CREATED:20171222T151415Z
LAST-MODIFIED:20171222T151415Z
UID:154037-1523127600-1523138400@deathmagnetic.pl
SUMMARY:Stoned Jesus + Somali Yacht Club
DESCRIPTION:Stoned Jesus wracają do Polski na Wielkanoc w ramach European Spring Tour\, a w ich towarzystwie pojawią się ciut mniej utytułowani\, ale jakże psychodelicznie doskonali\, Somali Yacht Club z najnowszą płytą „The Sea”!  \nInformacje na temat przedsprzedaży wejściówek pojawią się już wkrótce!
URL:https://deathmagnetic.pl/wydarzenie/stoned-jesus-somali-yacht-club/
LOCATION:Klub Firlej\, ul. Grabiszyńska 56\, Wrocław\, 53-504\, Polska
CATEGORIES:Koncerty,Polskie
ATTACH;FMTTYPE=image/jpeg:https://deathmagnetic.pl/wp-content/uploads/2017/12/stoned_jesus.jpg
GEO:51.1023114;17.0145386
X-APPLE-STRUCTURED-LOCATION;VALUE=URI;X-ADDRESS=Klub Firlej ul. Grabiszyńska 56 Wrocław 53-504 Polska;X-APPLE-RADIUS=500;X-TITLE=ul. Grabiszyńska 56:geo:17.0145386,51.1023114
END:VEVENT
END:VCALENDAR