BEGIN:VCALENDAR
VERSION:2.0
PRODID:-//Death Magnetic - ECPv5.10.1//NONSGML v1.0//EN
CALSCALE:GREGORIAN
METHOD:PUBLISH
X-WR-CALNAME:Death Magnetic
X-ORIGINAL-URL:https://deathmagnetic.pl
X-WR-CALDESC:Events for Death Magnetic
BEGIN:VTIMEZONE
TZID:Europe/Warsaw
BEGIN:DAYLIGHT
TZOFFSETFROM:+0100
TZOFFSETTO:+0200
TZNAME:CEST
DTSTART:20180325T010000
END:DAYLIGHT
BEGIN:STANDARD
TZOFFSETFROM:+0200
TZOFFSETTO:+0100
TZNAME:CET
DTSTART:20181028T010000
END:STANDARD
END:VTIMEZONE
BEGIN:VEVENT
DTSTART;TZID=Europe/Warsaw:20180406T190000
DTEND;TZID=Europe/Warsaw:20180406T220000
DTSTAMP:20260421T095158
CREATED:20171222T150948Z
LAST-MODIFIED:20171222T150948Z
UID:154036-1523041200-1523052000@deathmagnetic.pl
SUMMARY:Stoned Jesus + Somali Yacht Club + Red Scalp
DESCRIPTION:Stoned Jesus wracają do Polski w kwietniu w ramach wiosennej trasy koncertowej „European Spring Tour 2018”! \nNa początku był doom! Ale Stoned Jesus dynamicznie ewoluowali do rock’n’rolowej ekipy łączącej w sobie klasyczne stonerowe riffy z psychodelicznymi odlotami. Na czele stoi ich opus magnum czyli monumentalna kompozycja „I’m the Mountain” z milionami wyświetleń. Ostatnie koncerty w Poznaniu były wyprzedane!   \nJako goście specjalni:\nSomali Yacht Club – psychodeliczne trio nie raz grało już w Polsce i zawsze przyjęcie mieli świetne\, bo to świetny band. Przyjadą z nową płytą „The Sea”\, której część na pewno usłyszymy! No i niezapomniane intro z ostatniego SG w Krakowie. \nRed Scalp – Od niedawna kwintet. Własnie wydali nowy album „Lost Ghosts”\, na którym popłynęli trochę bardziej psychodelicznie ale nadal indiańsko.  \nInformacje na temat przedsprzedaży wejściówek pojawią się już wkrótce!
URL:https://deathmagnetic.pl/wydarzenie/stoned-jesus-somali-yacht-club-red-scalp-2/
LOCATION:Klub Pod Minogą\, Nowowiejskiego 8\, Poznań\, Polska
CATEGORIES:Koncerty,Polskie
ATTACH;FMTTYPE=image/jpeg:https://deathmagnetic.pl/wp-content/uploads/2017/12/stoned_jesus.jpg
GEO:52.4093124;16.9270295
X-APPLE-STRUCTURED-LOCATION;VALUE=URI;X-ADDRESS=Klub Pod Minogą Nowowiejskiego 8 Poznań Polska;X-APPLE-RADIUS=500;X-TITLE=Nowowiejskiego 8:geo:16.9270295,52.4093124
END:VEVENT
END:VCALENDAR