BEGIN:VCALENDAR
VERSION:2.0
PRODID:-//Death Magnetic - ECPv5.10.1//NONSGML v1.0//EN
CALSCALE:GREGORIAN
METHOD:PUBLISH
X-WR-CALNAME:Death Magnetic
X-ORIGINAL-URL:https://deathmagnetic.pl
X-WR-CALDESC:Events for Death Magnetic
BEGIN:VTIMEZONE
TZID:Europe/Warsaw
BEGIN:DAYLIGHT
TZOFFSETFROM:+0100
TZOFFSETTO:+0200
TZNAME:CEST
DTSTART:20160327T010000
END:DAYLIGHT
BEGIN:STANDARD
TZOFFSETFROM:+0200
TZOFFSETTO:+0100
TZNAME:CET
DTSTART:20161030T010000
END:STANDARD
END:VTIMEZONE
BEGIN:VEVENT
DTSTART;TZID=Europe/Warsaw:20160802T180000
DTEND;TZID=Europe/Warsaw:20160802T230000
DTSTAMP:20260421T015025
CREATED:20160209T225643Z
LAST-MODIFIED:20160209T225643Z
UID:97269-1470160800-1470178800@deathmagnetic.pl
SUMMARY:Sting
DESCRIPTION:Ceny biletów: \n– kat. 1 – miejsca siedzące – 749zł\n– kat. 2 – miejsca siedzące – 649zł\n– kat 3. – miejsca siedzące – 550zł\n– kat 4. – miejsca siedzące – 449zł\n– kat 5. – ograniczony widok – 349zł \nBilety dostępne na stronie Live Nation.
URL:https://deathmagnetic.pl/wydarzenie/sting/
LOCATION:Opera Leśna\, ul. Moniuszki 12\, Sopot\, mazowieckie\, 81-829
CATEGORIES:Koncerty,zagraniczne
ATTACH;FMTTYPE=image/jpeg:https://deathmagnetic.pl/wp-content/uploads/2016/02/Sting.jpg
ORGANIZER;CN="Live%20Nation":MAILTO:info@livenation.pl
END:VEVENT
END:VCALENDAR