BEGIN:VCALENDAR
VERSION:2.0
PRODID:-//Death Magnetic - ECPv5.10.1//NONSGML v1.0//EN
CALSCALE:GREGORIAN
METHOD:PUBLISH
X-WR-CALNAME:Death Magnetic
X-ORIGINAL-URL:https://deathmagnetic.pl
X-WR-CALDESC:Events for Death Magnetic
BEGIN:VTIMEZONE
TZID:Europe/Warsaw
BEGIN:DAYLIGHT
TZOFFSETFROM:+0100
TZOFFSETTO:+0200
TZNAME:CEST
DTSTART:20150329T010000
END:DAYLIGHT
BEGIN:STANDARD
TZOFFSETFROM:+0200
TZOFFSETTO:+0100
TZNAME:CET
DTSTART:20151025T010000
END:STANDARD
END:VTIMEZONE
BEGIN:VEVENT
DTSTART;TZID=Europe/Warsaw:20150408T200000
DTEND;TZID=Europe/Warsaw:20150408T230000
DTSTAMP:20260421T072328
CREATED:20150309T165721Z
LAST-MODIFIED:20150309T165721Z
UID:75458-1428523200-1428534000@deathmagnetic.pl
SUMMARY:Steven Wilson
DESCRIPTION:Ceny biletów: \nOd 1.01.2015: \npłyta – 139zł\nbalkon centralny – 169zł\nbalkon boczny – 159zł \nW dniu koncertu: \npłyta – 150zł\nbalkon centralny – 180zł\nbalkon boczny – 170zł \nBilety dostępne na:  \nRockserwis.pl
URL:https://deathmagnetic.pl/wydarzenie/steven-wilson/
LOCATION:Wytwórnia\, Łąkowa 29\, Łódź
CATEGORIES:Koncerty,zagraniczne
ATTACH;FMTTYPE=image/jpeg:https://deathmagnetic.pl/wp-content/uploads/2015/03/Steven-Wilson.jpg
ORGANIZER;CN="Rock%20Serwis":MAILTO:bok@rockserwis.pl
GEO:51.757883;19.443701
X-APPLE-STRUCTURED-LOCATION;VALUE=URI;X-ADDRESS=Wytwórnia Łąkowa 29 Łódź;X-APPLE-RADIUS=500;X-TITLE=Łąkowa 29:geo:19.443701,51.757883
END:VEVENT
END:VCALENDAR