BEGIN:VCALENDAR
VERSION:2.0
PRODID:-//Death Magnetic - ECPv5.10.1//NONSGML v1.0//EN
CALSCALE:GREGORIAN
METHOD:PUBLISH
X-WR-CALNAME:Death Magnetic
X-ORIGINAL-URL:https://deathmagnetic.pl
X-WR-CALDESC:Events for Death Magnetic
BEGIN:VTIMEZONE
TZID:Europe/Warsaw
BEGIN:DAYLIGHT
TZOFFSETFROM:+0100
TZOFFSETTO:+0200
TZNAME:CEST
DTSTART:20160327T010000
END:DAYLIGHT
BEGIN:STANDARD
TZOFFSETFROM:+0200
TZOFFSETTO:+0100
TZNAME:CET
DTSTART:20161030T010000
END:STANDARD
END:VTIMEZONE
BEGIN:VEVENT
DTSTART;TZID=Europe/Warsaw:20160418T200000
DTEND;TZID=Europe/Warsaw:20160418T235500
DTSTAMP:20260421T104648
CREATED:20150926T135707Z
LAST-MODIFIED:20150926T135707Z
UID:92417-1461009600-1461023700@deathmagnetic.pl
SUMMARY:Steven Wilson
DESCRIPTION:Więcej informacji wkrótce!
URL:https://deathmagnetic.pl/wydarzenie/steven-wilson-4/
LOCATION:ICE Kraków Congress Centre\, Marii Konopnickiej 17\, Kraków
CATEGORIES:Koncerty,zagraniczne
ATTACH;FMTTYPE=image/jpeg:https://deathmagnetic.pl/wp-content/uploads/2015/09/steven_wilson_hand_cannot_erase_tour_2016.jpg
ORGANIZER;CN="Rock%20Serwis":MAILTO:bok@rockserwis.pl
GEO:50.0479017;19.9315904
X-APPLE-STRUCTURED-LOCATION;VALUE=URI;X-ADDRESS=ICE Kraków Congress Centre Marii Konopnickiej 17 Kraków;X-APPLE-RADIUS=500;X-TITLE=Marii Konopnickiej 17:geo:19.9315904,50.0479017
END:VEVENT
END:VCALENDAR