BEGIN:VCALENDAR
VERSION:2.0
PRODID:-//Death Magnetic - ECPv5.10.1//NONSGML v1.0//EN
CALSCALE:GREGORIAN
METHOD:PUBLISH
X-WR-CALNAME:Death Magnetic
X-ORIGINAL-URL:https://deathmagnetic.pl
X-WR-CALDESC:Events for Death Magnetic
BEGIN:VTIMEZONE
TZID:Europe/Warsaw
BEGIN:DAYLIGHT
TZOFFSETFROM:+0100
TZOFFSETTO:+0200
TZNAME:CEST
DTSTART:20160327T010000
END:DAYLIGHT
BEGIN:STANDARD
TZOFFSETFROM:+0200
TZOFFSETTO:+0100
TZNAME:CET
DTSTART:20161030T010000
END:STANDARD
END:VTIMEZONE
BEGIN:VEVENT
DTSTART;TZID=Europe/Warsaw:20160212T200000
DTEND;TZID=Europe/Warsaw:20160212T230000
DTSTAMP:20260421T085928
CREATED:20160206T003838Z
LAST-MODIFIED:20160206T003838Z
UID:96861-1455307200-1455318000@deathmagnetic.pl
SUMMARY:Steel Drunk: Vendetta Tour 2016 (Miastko)
DESCRIPTION:Steel Drunk Vendetta Tour 2016\nMłodzi rockmani z bydgoskiego Steel Drunk prą do przodu\, niczym lodołamak!\nOd czasu kwietniowego debiutu scenicznego tej młodej bydgoskiej kapeli\, chłopaki nagrali i wydali własnymi siłami debiutanckie EP – „Vendetta”\, które promowali do końca 2015 roku na ponad piętnastu koncertach – z zagranicznym punkrockockowym Shadow of Television\, ze szczecińską Offensywą\, ale przede wszystkim na dziesięciu samodzielnych koncertach w całym kraju\, zyskując coraz pokaźniejsze grono fanów!
URL:https://deathmagnetic.pl/wydarzenie/steel-drunk-vendetta-tour-2016-miastko/
LOCATION:Marysieńka\, Miastko\, mazowieckie\, 77-200\, Polska
CATEGORIES:Koncerty,Polskie
ATTACH;FMTTYPE=image/jpeg:https://deathmagnetic.pl/wp-content/uploads/2016/02/12544176_1026075994116372_296379507_o.jpg
END:VEVENT
END:VCALENDAR