BEGIN:VCALENDAR
VERSION:2.0
PRODID:-//Death Magnetic - ECPv5.10.1//NONSGML v1.0//EN
CALSCALE:GREGORIAN
METHOD:PUBLISH
X-WR-CALNAME:Death Magnetic
X-ORIGINAL-URL:https://deathmagnetic.pl
X-WR-CALDESC:Events for Death Magnetic
BEGIN:VTIMEZONE
TZID:Europe/Warsaw
BEGIN:DAYLIGHT
TZOFFSETFROM:+0100
TZOFFSETTO:+0200
TZNAME:CEST
DTSTART:20160327T010000
END:DAYLIGHT
BEGIN:STANDARD
TZOFFSETFROM:+0200
TZOFFSETTO:+0100
TZNAME:CET
DTSTART:20161030T010000
END:STANDARD
END:VTIMEZONE
BEGIN:VEVENT
DTSTART;TZID=Europe/Warsaw:20160114T110000
DTEND;TZID=Europe/Warsaw:20160114T230000
DTSTAMP:20260420T213017
CREATED:20151125T175917Z
LAST-MODIFIED:20151125T175917Z
UID:94826-1452769200-1452812400@deathmagnetic.pl
SUMMARY:Spektakl "Łajza"
DESCRIPTION:Ceny biletów:\nStrefa I\n* cena klubowicza – 24zł\n* bilet ulgowy – 25zł\n* bilet normalny – 30zł \nStrefa II\n* cena klubowicza – 19zł\n* bilet ulgowy – 20zł\n* bilet normalny – 25zł \nStrefa III\n* cena klubowicza – 14zł\n* bilet ulgowy – 15zł\n* bilet normalny – 20zł \nBilety do nabycia na stronie Teatru Muzycznego w Łodzi oraz w kasie w placówce. \n 
URL:https://deathmagnetic.pl/wydarzenie/spektakl-lajza-2/
LOCATION:Teatr Muzyczny w Łodzi\, ul. Północna 47/51\, Łódź\, Polska
CATEGORIES:Koncerty,Polskie
ATTACH;FMTTYPE=image/jpeg:https://deathmagnetic.pl/wp-content/uploads/2015/10/Łajza.jpg
GEO:51.780147;19.473162
X-APPLE-STRUCTURED-LOCATION;VALUE=URI;X-ADDRESS=Teatr Muzyczny w Łodzi ul. Północna 47/51 Łódź Polska;X-APPLE-RADIUS=500;X-TITLE=ul. Północna 47/51:geo:19.473162,51.780147
END:VEVENT
END:VCALENDAR