BEGIN:VCALENDAR
VERSION:2.0
PRODID:-//Death Magnetic - ECPv5.10.1//NONSGML v1.0//EN
CALSCALE:GREGORIAN
METHOD:PUBLISH
X-WR-CALNAME:Death Magnetic
X-ORIGINAL-URL:https://deathmagnetic.pl
X-WR-CALDESC:Events for Death Magnetic
BEGIN:VTIMEZONE
TZID:Europe/Warsaw
BEGIN:DAYLIGHT
TZOFFSETFROM:+0100
TZOFFSETTO:+0200
TZNAME:CEST
DTSTART:20170326T010000
END:DAYLIGHT
BEGIN:STANDARD
TZOFFSETFROM:+0200
TZOFFSETTO:+0100
TZNAME:CET
DTSTART:20171029T010000
END:STANDARD
END:VTIMEZONE
BEGIN:VEVENT
DTSTART;TZID=Europe/Warsaw:20170204T190000
DTEND;TZID=Europe/Warsaw:20170204T220000
DTSTAMP:20260421T004948
CREATED:20170129T221244Z
LAST-MODIFIED:20170129T221244Z
UID:110946-1486234800-1486245600@deathmagnetic.pl
SUMMARY:Sounds Like The End Of The World + Flash The Readies
DESCRIPTION:Zagrają:\nSounds Like The End Of The World (post-rock\, PL)\nFlash The Readies (post-rock\, CZ) \nBilety:\n20 zł tylko na bramce
URL:https://deathmagnetic.pl/wydarzenie/sounds-like-the-end-of-the-world-flash-the-readies-2/
LOCATION:Klub Pod Minogą\, Nowowiejskiego 8\, Poznań\, Polska
CATEGORIES:Koncerty,Polskie
ATTACH;FMTTYPE=image/jpeg:https://deathmagnetic.pl/wp-content/uploads/2017/01/sounds-like-the-end-of-the-world-2.jpg
ORGANIZER;CN="Left%20Hand%20Sounds":MAILTO:info@lefthandsounds.org
GEO:52.4093124;16.9270295
X-APPLE-STRUCTURED-LOCATION;VALUE=URI;X-ADDRESS=Klub Pod Minogą Nowowiejskiego 8 Poznań Polska;X-APPLE-RADIUS=500;X-TITLE=Nowowiejskiego 8:geo:16.9270295,52.4093124
END:VEVENT
END:VCALENDAR