BEGIN:VCALENDAR
VERSION:2.0
PRODID:-//Death Magnetic - ECPv5.10.1//NONSGML v1.0//EN
CALSCALE:GREGORIAN
METHOD:PUBLISH
X-WR-CALNAME:Death Magnetic
X-ORIGINAL-URL:https://deathmagnetic.pl
X-WR-CALDESC:Events for Death Magnetic
BEGIN:VTIMEZONE
TZID:Europe/Warsaw
BEGIN:DAYLIGHT
TZOFFSETFROM:+0100
TZOFFSETTO:+0200
TZNAME:CEST
DTSTART:20160327T010000
END:DAYLIGHT
BEGIN:STANDARD
TZOFFSETFROM:+0200
TZOFFSETTO:+0100
TZNAME:CET
DTSTART:20161030T010000
END:STANDARD
END:VTIMEZONE
BEGIN:VEVENT
DTSTART;TZID=Europe/Warsaw:20160310T190000
DTEND;TZID=Europe/Warsaw:20160310T190000
DTSTAMP:20260421T093023
CREATED:20160303T215233Z
LAST-MODIFIED:20160303T215233Z
UID:97961-1457636400-1457636400@deathmagnetic.pl
SUMMARY:Soulstone Gathering: Awakening | Bone Man\, Sun Dance\, Savanah\, Minus Green
DESCRIPTION:Zespoły:\nBone Man (DE)\, \nSun Dance (PL)\, \nSavanah (AT)\, \nMinus Green (AT) \nCena:\n20 zł (w dniu koncertu)
URL:https://deathmagnetic.pl/wydarzenie/soulstone-gathering-awakening-bone-man-sun-dance-savanah-minus-green/
LOCATION:Klub Alchemia\, Estery 5\, Kraków\, 31-056\, Polska
CATEGORIES:Koncerty,Polskie
ATTACH;FMTTYPE=image/jpeg:https://deathmagnetic.pl/wp-content/uploads/2016/03/soulstone-gathering.jpg
ORGANIZER;CN="Soulstone%20Gathering":MAILTO:soulstonegathering@gmail.com
GEO:50.0524046;19.9450074
X-APPLE-STRUCTURED-LOCATION;VALUE=URI;X-ADDRESS=Klub Alchemia Estery 5 Kraków 31-056 Polska;X-APPLE-RADIUS=500;X-TITLE=Estery 5:geo:19.9450074,50.0524046
END:VEVENT
END:VCALENDAR