BEGIN:VCALENDAR
VERSION:2.0
PRODID:-//Death Magnetic - ECPv5.10.1//NONSGML v1.0//EN
CALSCALE:GREGORIAN
METHOD:PUBLISH
X-WR-CALNAME:Death Magnetic
X-ORIGINAL-URL:https://deathmagnetic.pl
X-WR-CALDESC:Events for Death Magnetic
BEGIN:VTIMEZONE
TZID:Europe/Warsaw
BEGIN:DAYLIGHT
TZOFFSETFROM:+0100
TZOFFSETTO:+0200
TZNAME:CEST
DTSTART:20160327T010000
END:DAYLIGHT
BEGIN:STANDARD
TZOFFSETFROM:+0200
TZOFFSETTO:+0100
TZNAME:CET
DTSTART:20161030T010000
END:STANDARD
END:VTIMEZONE
BEGIN:VEVENT
DTSTART;TZID=Europe/Warsaw:20161029T180000
DTEND;TZID=Europe/Warsaw:20161029T230000
DTSTAMP:20260421T094746
CREATED:20161029T002654Z
LAST-MODIFIED:20161029T002956Z
UID:106938-1477764000-1477782000@deathmagnetic.pl
SUMMARY:Skibidibi Fest vol VII: Moanaa + Lonker See + Stonebaker
DESCRIPTION:Po ponad rocznej przerwie powraca kolejna edycja Skibidibi Fest! Jak zapowiadają organizatorzy\, impreza tradycyjnie odbędzie się w przemiłej atmosferze i doborowym towarzystwie. Tego wydarzenia po prostu nie można przegapić!\n\nRozpiska godzinowa:\n20:00 – Stonebaker\n21:00 – Lonker See\n22:00 – Moanaa\n\nBilety w cenie 15 zł do nabycia na miejscu!
URL:https://deathmagnetic.pl/wydarzenie/skibidibi-fest-vol-vii-moanaa-lonker-see-stonebaker/
LOCATION:Beerokracja\, ul. Marszałkowska 99/101\, Warszawa\, mazowieckie
CATEGORIES:Koncerty,patronaty,Polskie
ATTACH;FMTTYPE=image/jpeg:https://deathmagnetic.pl/wp-content/uploads/2016/10/skibidibi_fest.jpg
ORGANIZER;CN="Beerokracja":MAILTO:kontakt@beerokracja.pl
GEO:52.2290062;21.0115549
X-APPLE-STRUCTURED-LOCATION;VALUE=URI;X-ADDRESS=Beerokracja ul. Marszałkowska 99/101 Warszawa mazowieckie;X-APPLE-RADIUS=500;X-TITLE=ul. Marszałkowska 99/101:geo:21.0115549,52.2290062
END:VEVENT
END:VCALENDAR