BEGIN:VCALENDAR
VERSION:2.0
PRODID:-//Death Magnetic - ECPv5.10.1//NONSGML v1.0//EN
CALSCALE:GREGORIAN
METHOD:PUBLISH
X-WR-CALNAME:Death Magnetic
X-ORIGINAL-URL:https://deathmagnetic.pl
X-WR-CALDESC:Events for Death Magnetic
BEGIN:VTIMEZONE
TZID:Europe/Warsaw
BEGIN:DAYLIGHT
TZOFFSETFROM:+0100
TZOFFSETTO:+0200
TZNAME:CEST
DTSTART:20160327T010000
END:DAYLIGHT
BEGIN:STANDARD
TZOFFSETFROM:+0200
TZOFFSETTO:+0100
TZNAME:CET
DTSTART:20161030T010000
END:STANDARD
END:VTIMEZONE
BEGIN:VEVENT
DTSTART;TZID=Europe/Warsaw:20160316T190000
DTEND;TZID=Europe/Warsaw:20160316T230000
DTSTAMP:20260421T074014
CREATED:20160208T172400Z
LAST-MODIFIED:20160208T172400Z
UID:97156-1458154800-1458169200@deathmagnetic.pl
SUMMARY:Sick Of It All + Broken Teeth
DESCRIPTION:  \nKnock Out Productions informuje: amerykańscy hardcore’owcy z Sick Of It All przyjadą do Polski na dwa koncerty. Nowojorska legenda zagra 15.03 we wrocławskim Alibi i 16.03 w warszawskiej Proximie. Razem z Sick Of It All wystąpi brytyjska grupa Broken Teeth z Manchesteru. \nBilety: 70 zł – przedsprzedaż\, 80 zł – w dniu koncertu \nBilety na dostępne na www.knockoutprod.net/sklep (druki kolekcjonerskie) \nBilety systemowe:\nTicketPro\nE-Bilet\nEventim\nMuno.pl / Biletomat \n 
URL:https://deathmagnetic.pl/wydarzenie/sick-of-it-all-broken-teeth-2/
LOCATION:Proxima\, ul. Żwirki i Wigury 99\, Warszawa\, Polska
CATEGORIES:Koncerty,zagraniczne
ATTACH;FMTTYPE=image/jpeg:https://deathmagnetic.pl/wp-content/uploads/2016/02/Sick-Of-It-All.jpg
ORGANIZER;CN="KnockOut%20Productions":MAILTO:info@knockoutprod.net
GEO:52.212567;20.987187
X-APPLE-STRUCTURED-LOCATION;VALUE=URI;X-ADDRESS=Proxima ul. Żwirki i Wigury 99 Warszawa Polska;X-APPLE-RADIUS=500;X-TITLE=ul. Żwirki i Wigury 99:geo:20.987187,52.212567
END:VEVENT
END:VCALENDAR