BEGIN:VCALENDAR
VERSION:2.0
PRODID:-//Death Magnetic - ECPv5.10.1//NONSGML v1.0//EN
CALSCALE:GREGORIAN
METHOD:PUBLISH
X-WR-CALNAME:Death Magnetic
X-ORIGINAL-URL:https://deathmagnetic.pl
X-WR-CALDESC:Events for Death Magnetic
BEGIN:VTIMEZONE
TZID:Europe/Warsaw
BEGIN:DAYLIGHT
TZOFFSETFROM:+0100
TZOFFSETTO:+0200
TZNAME:CEST
DTSTART:20170326T010000
END:DAYLIGHT
BEGIN:STANDARD
TZOFFSETFROM:+0200
TZOFFSETTO:+0100
TZNAME:CET
DTSTART:20171029T010000
END:STANDARD
END:VTIMEZONE
BEGIN:VEVENT
DTSTART;VALUE=DATE:20170413
DTEND;VALUE=DATE:20170414
DTSTAMP:20260421T041441
CREATED:20170312T163902Z
LAST-MODIFIED:20170312T163902Z
UID:113472-1492041600-1492127999@deathmagnetic.pl
SUMMARY:Siberian Meat Grinder
DESCRIPTION:Siberian Meat Grinder \n13.04 / g.19:00 \nPod Minogą / Poznań \n  \nBilety: \n29pln – http://winiarybookings.8merch.com/siberian_meat_grinder_13_04_pozna-id11727 \n35pln – Biletomat.pl\, \n39pln – w dniu koncertu
URL:https://deathmagnetic.pl/wydarzenie/siberian-meat-grinder/
LOCATION:Klub Pod Minogą\, Nowowiejskiego 8\, Poznań\, Polska
CATEGORIES:Koncerty,zagraniczne
ATTACH;FMTTYPE=image/jpeg:https://deathmagnetic.pl/wp-content/uploads/2017/03/SiberianMeatGrinder.jpg
ORGANIZER;CN="WiniaryBookings":MAILTO:winiarybooking@gmail.com
GEO:52.4093124;16.9270295
X-APPLE-STRUCTURED-LOCATION;VALUE=URI;X-ADDRESS=Klub Pod Minogą Nowowiejskiego 8 Poznań Polska;X-APPLE-RADIUS=500;X-TITLE=Nowowiejskiego 8:geo:16.9270295,52.4093124
END:VEVENT
END:VCALENDAR