BEGIN:VCALENDAR
VERSION:2.0
PRODID:-//Death Magnetic - ECPv5.10.1//NONSGML v1.0//EN
CALSCALE:GREGORIAN
METHOD:PUBLISH
X-WR-CALNAME:Death Magnetic
X-ORIGINAL-URL:https://deathmagnetic.pl
X-WR-CALDESC:Events for Death Magnetic
BEGIN:VTIMEZONE
TZID:Europe/Warsaw
BEGIN:DAYLIGHT
TZOFFSETFROM:+0100
TZOFFSETTO:+0200
TZNAME:CEST
DTSTART:20170326T010000
END:DAYLIGHT
BEGIN:STANDARD
TZOFFSETFROM:+0200
TZOFFSETTO:+0100
TZNAME:CET
DTSTART:20171029T010000
END:STANDARD
END:VTIMEZONE
BEGIN:VEVENT
DTSTART;TZID=Europe/Warsaw:20170810T193000
DTEND;TZID=Europe/Warsaw:20170810T233000
DTSTAMP:20260421T074147
CREATED:20170807T190506Z
LAST-MODIFIED:20170807T190506Z
UID:148797-1502393400-1502407800@deathmagnetic.pl
SUMMARY:Siberian Meat Grinder + Good Old Days
DESCRIPTION:SZCZEGÓŁY:\nData: 10 sierpnia 2017\, godz. 19:30\nMiejsce: Klub Dwa Światy – ul. Ducha Św. 10/12\, Toruń\nBilety: 25 PLN – przedsprzedaż* / 30 PLN – w dniu koncertu \n*sprzedaż stacjonarna w barze klubu Dwa Światy; dla przyjezdnych jest opcja zaklepania biletu po wcześniejszym opłaceniu przelewem\, w tym celu proszę o maila na adres\npiranha.tourbooking@gmail.com\nz tutyłem „BILETY SMG”\, w mailu zwrotnym dostaniecie dalsze instrukcje. Bilety zakupione w ten sposób będa do odbioru na bramce w dniu koncertu za okazaniem dowodu tożsamości.
URL:https://deathmagnetic.pl/wydarzenie/siberian-meat-grinder-good-old-days/
LOCATION:Dwa Światy\, ul. Ducha św. 10/12\, Toruń\, 87-100\, Polska
CATEGORIES:Koncerty,zagraniczne
ATTACH;FMTTYPE=image/png:https://deathmagnetic.pl/wp-content/uploads/2017/08/SMG_PLAKAT_NET.png
ORGANIZER;CN="piranha%20tourbooking":MAILTO:piranha.tourbooking@gmail.com
END:VEVENT
END:VCALENDAR