BEGIN:VCALENDAR
VERSION:2.0
PRODID:-//Death Magnetic - ECPv5.10.1//NONSGML v1.0//EN
CALSCALE:GREGORIAN
METHOD:PUBLISH
X-WR-CALNAME:Death Magnetic
X-ORIGINAL-URL:https://deathmagnetic.pl
X-WR-CALDESC:Events for Death Magnetic
BEGIN:VTIMEZONE
TZID:Europe/Warsaw
BEGIN:DAYLIGHT
TZOFFSETFROM:+0100
TZOFFSETTO:+0200
TZNAME:CEST
DTSTART:20160327T010000
END:DAYLIGHT
BEGIN:STANDARD
TZOFFSETFROM:+0200
TZOFFSETTO:+0100
TZNAME:CET
DTSTART:20161030T010000
END:STANDARD
END:VTIMEZONE
BEGIN:VEVENT
DTSTART;TZID=Europe/Warsaw:20160425T190000
DTEND;TZID=Europe/Warsaw:20160425T230000
DTSTAMP:20260420T165555
CREATED:20160413T164201Z
LAST-MODIFIED:20160413T164201Z
UID:99192-1461610800-1461625200@deathmagnetic.pl
SUMMARY:Show Your Teeth + When Reasons Collapse + Praetoria.
DESCRIPTION:Drzwi: 18:30\nStart: 19:00 \nBIlety: 15zł / 20zł \nBilety kolekcjonerskie do nabycia na stoisku muzycznym „ROCKY” w D.H. „Feniks”\, IV piętro\, Rynek\,Wrocław oraz w klubie „Ciemna Strona Miasta”. \nKolekcjonerskie również do nabycia w HEART OF ROCK SHOP: http://heartofrockagency.8merch.com/25_04_2016_giants_show_your_teeth_wroc_aw-id8226
URL:https://deathmagnetic.pl/wydarzenie/show-your-teeth-when-reasons-collapse-praetoria/
LOCATION:Ciemna Strona Miasta\, Plac gen. Walerego Wróblewskiego 3\, Wrocław\, Polska
CATEGORIES:Koncerty,zagraniczne
ATTACH;FMTTYPE=image/jpeg:https://deathmagnetic.pl/wp-content/uploads/2016/04/Show-Your-teeth.jpg
ORGANIZER;CN="Heart%20Of%20Rock%20Agency":MAILTO:office@heartofrockagency.com
GEO:51.1052549;17.048337
X-APPLE-STRUCTURED-LOCATION;VALUE=URI;X-ADDRESS=Ciemna Strona Miasta Plac gen. Walerego Wróblewskiego 3 Wrocław Polska;X-APPLE-RADIUS=500;X-TITLE=Plac gen. Walerego Wróblewskiego 3:geo:17.048337,51.1052549
END:VEVENT
END:VCALENDAR