BEGIN:VCALENDAR
VERSION:2.0
PRODID:-//Death Magnetic - ECPv5.10.1//NONSGML v1.0//EN
CALSCALE:GREGORIAN
METHOD:PUBLISH
X-WR-CALNAME:Death Magnetic
X-ORIGINAL-URL:https://deathmagnetic.pl
X-WR-CALDESC:Events for Death Magnetic
BEGIN:VTIMEZONE
TZID:Europe/Warsaw
BEGIN:DAYLIGHT
TZOFFSETFROM:+0100
TZOFFSETTO:+0200
TZNAME:CEST
DTSTART:20160327T010000
END:DAYLIGHT
BEGIN:STANDARD
TZOFFSETFROM:+0200
TZOFFSETTO:+0100
TZNAME:CET
DTSTART:20161030T010000
END:STANDARD
END:VTIMEZONE
BEGIN:VEVENT
DTSTART;TZID=Europe/Warsaw:20160414T190000
DTEND;TZID=Europe/Warsaw:20160414T230000
DTSTAMP:20260420T022945
CREATED:20160323T164753Z
LAST-MODIFIED:20160326T163930Z
UID:98541-1460660400-1460674800@deathmagnetic.pl
SUMMARY:Show Me A Dinosaur + Trna + Hegemone
DESCRIPTION:Bilety do nabycia w klubie w cenach: \n– 15zł – przedsprzdaż\n– 20zł – w dniu koncertu
URL:https://deathmagnetic.pl/wydarzenie/show-me-a-dinosaur-trna-hegemone-3/
LOCATION:Kosmos Music Club\, al. Wyzwolenia 18\, Szczecin\,  70-532\, Polska
CATEGORIES:Koncerty,zagraniczne
ATTACH;FMTTYPE=image/jpeg:https://deathmagnetic.pl/wp-content/uploads/2016/03/show_me_a_dinosaur_trna_hegemone.jpg
GEO:53.4337619;14.5558731
X-APPLE-STRUCTURED-LOCATION;VALUE=URI;X-ADDRESS=Kosmos Music Club al. Wyzwolenia 18 Szczecin  70-532 Polska;X-APPLE-RADIUS=500;X-TITLE=al. Wyzwolenia 18:geo:14.5558731,53.4337619
END:VEVENT
END:VCALENDAR