BEGIN:VCALENDAR
VERSION:2.0
PRODID:-//Death Magnetic - ECPv5.10.1//NONSGML v1.0//EN
CALSCALE:GREGORIAN
METHOD:PUBLISH
X-WR-CALNAME:Death Magnetic
X-ORIGINAL-URL:https://deathmagnetic.pl
X-WR-CALDESC:Events for Death Magnetic
BEGIN:VTIMEZONE
TZID:Europe/Warsaw
BEGIN:DAYLIGHT
TZOFFSETFROM:+0100
TZOFFSETTO:+0200
TZNAME:CEST
DTSTART:20160327T010000
END:DAYLIGHT
BEGIN:STANDARD
TZOFFSETFROM:+0200
TZOFFSETTO:+0100
TZNAME:CET
DTSTART:20161030T010000
END:STANDARD
END:VTIMEZONE
BEGIN:VEVENT
DTSTART;TZID=Europe/Warsaw:20160413T190000
DTEND;TZID=Europe/Warsaw:20160413T230000
DTSTAMP:20260420T134731
CREATED:20160323T164412Z
LAST-MODIFIED:20160326T163932Z
UID:98538-1460574000-1460588400@deathmagnetic.pl
SUMMARY:Show Me A Dinosaur + Trna + Hegemone
DESCRIPTION:Bilety dostępne w klubie w cenach: \n– 15zł – przedsprzedaż\n– 20zł – w dniu koncertu \n 
URL:https://deathmagnetic.pl/wydarzenie/show-me-a-dinosaur-trna-hegemone-2/
LOCATION:NRD Klub\, Browarna 6\, Toruń\, mazowieckie\, 87-100\, Polska
CATEGORIES:Koncerty,zagraniczne
ATTACH;FMTTYPE=image/jpeg:https://deathmagnetic.pl/wp-content/uploads/2016/03/show_me_a_dinosaur_trna_hegemone.jpg
GEO:53.010931;18.61205
X-APPLE-STRUCTURED-LOCATION;VALUE=URI;X-ADDRESS=NRD Klub Browarna 6 Toruń mazowieckie 87-100 Polska;X-APPLE-RADIUS=500;X-TITLE=Browarna 6:geo:18.61205,53.010931
END:VEVENT
END:VCALENDAR