BEGIN:VCALENDAR
VERSION:2.0
PRODID:-//Death Magnetic - ECPv5.10.1//NONSGML v1.0//EN
CALSCALE:GREGORIAN
METHOD:PUBLISH
X-WR-CALNAME:Death Magnetic
X-ORIGINAL-URL:https://deathmagnetic.pl
X-WR-CALDESC:Events for Death Magnetic
BEGIN:VTIMEZONE
TZID:Europe/Warsaw
BEGIN:DAYLIGHT
TZOFFSETFROM:+0100
TZOFFSETTO:+0200
TZNAME:CEST
DTSTART:20170326T010000
END:DAYLIGHT
BEGIN:STANDARD
TZOFFSETFROM:+0200
TZOFFSETTO:+0100
TZNAME:CET
DTSTART:20171029T010000
END:STANDARD
END:VTIMEZONE
BEGIN:VEVENT
DTSTART;TZID=Europe/Warsaw:20171010T183000
DTEND;TZID=Europe/Warsaw:20171010T233000
DTSTAMP:20260421T040829
CREATED:20170929T180322Z
LAST-MODIFIED:20170929T180322Z
UID:151135-1507660200-1507678200@deathmagnetic.pl
SUMMARY:Shawn James & The Shapeshifters
DESCRIPTION:+ SUPPORT \nBILETY: 30zl (przedsprzedaż na ubazyla.pl i w Rock Long Luck)\, 40zł w dniu koncertu
URL:https://deathmagnetic.pl/wydarzenie/shawn-james-the-shapeshifters-3/
LOCATION:Klub u Bazyla\, ul. Norwida 18A\, Poznań\, wielkopolskie\, 60-867\, Polska
CATEGORIES:Koncerty,zagraniczne
ATTACH;FMTTYPE=image/jpeg:https://deathmagnetic.pl/wp-content/uploads/2017/09/shawn-james-plakat.jpg
ORGANIZER;CN="Left%20Hand%20Sounds":MAILTO:info@lefthandsounds.org
GEO:52.41666;16.9111489
X-APPLE-STRUCTURED-LOCATION;VALUE=URI;X-ADDRESS=Klub u Bazyla ul. Norwida 18A Poznań wielkopolskie 60-867 Polska;X-APPLE-RADIUS=500;X-TITLE=ul. Norwida 18A:geo:16.9111489,52.41666
END:VEVENT
END:VCALENDAR