BEGIN:VCALENDAR
VERSION:2.0
PRODID:-//Death Magnetic - ECPv5.10.1//NONSGML v1.0//EN
CALSCALE:GREGORIAN
METHOD:PUBLISH
X-WR-CALNAME:Death Magnetic
X-ORIGINAL-URL:https://deathmagnetic.pl
X-WR-CALDESC:Events for Death Magnetic
BEGIN:VTIMEZONE
TZID:Europe/Warsaw
BEGIN:DAYLIGHT
TZOFFSETFROM:+0100
TZOFFSETTO:+0200
TZNAME:CEST
DTSTART:20170326T010000
END:DAYLIGHT
BEGIN:STANDARD
TZOFFSETFROM:+0200
TZOFFSETTO:+0100
TZNAME:CET
DTSTART:20171029T010000
END:STANDARD
END:VTIMEZONE
BEGIN:VEVENT
DTSTART;TZID=Europe/Warsaw:20170927T190000
DTEND;TZID=Europe/Warsaw:20170927T220000
DTSTAMP:20260421T052323
CREATED:20170507T125442Z
LAST-MODIFIED:20170507T125442Z
UID:117420-1506538800-1506549600@deathmagnetic.pl
SUMMARY:Seether
DESCRIPTION:Ceny biletów: 105 / 120zl\nMiejsca zakupu: www.go-ahead.pl\, www.biletomat.pl\, www.ebilet.pl\,www.ticketpro.pl\, www.ticketmaster.pl oraz sklepy sieci Empik\, Media Markt\, Saturn
URL:https://deathmagnetic.pl/wydarzenie/seether/
LOCATION:Progresja\, Fort Wola 22\, Warszawa\, Polska
CATEGORIES:Koncerty,zagraniczne
ATTACH;FMTTYPE=image/jpeg:https://deathmagnetic.pl/wp-content/uploads/2017/05/17545576_10158488110800486_7646998563252191505_o.jpg
ORGANIZER;CN="Go%20Ahead":MAILTO:agencja@go-ahead.pl
GEO:52.224827;20.9287
X-APPLE-STRUCTURED-LOCATION;VALUE=URI;X-ADDRESS=Progresja Fort Wola 22 Warszawa Polska;X-APPLE-RADIUS=500;X-TITLE=Fort Wola 22:geo:20.9287,52.224827
END:VEVENT
END:VCALENDAR