BEGIN:VCALENDAR
VERSION:2.0
PRODID:-//Death Magnetic - ECPv5.10.1//NONSGML v1.0//EN
CALSCALE:GREGORIAN
METHOD:PUBLISH
X-WR-CALNAME:Death Magnetic
X-ORIGINAL-URL:https://deathmagnetic.pl
X-WR-CALDESC:Events for Death Magnetic
BEGIN:VTIMEZONE
TZID:Europe/Warsaw
BEGIN:DAYLIGHT
TZOFFSETFROM:+0100
TZOFFSETTO:+0200
TZNAME:CEST
DTSTART:20150329T010000
END:DAYLIGHT
BEGIN:STANDARD
TZOFFSETFROM:+0200
TZOFFSETTO:+0100
TZNAME:CET
DTSTART:20151025T010000
END:STANDARD
END:VTIMEZONE
BEGIN:VEVENT
DTSTART;TZID=Europe/Warsaw:20150302T080000
DTEND;TZID=Europe/Warsaw:20150302T170000
DTSTAMP:20260421T092233
CREATED:20150302T130615Z
LAST-MODIFIED:20150302T130615Z
UID:74750-1425283200-1425315600@deathmagnetic.pl
SUMMARY:Scream Maker + Szaraki + Kruk + Rooster
DESCRIPTION:Ceny biletów: 10 zł \nDostępne w klubie i na Screammakerband
URL:https://deathmagnetic.pl/wydarzenie/scream-maker-szaraki-kruk-rooster/
LOCATION:Luka\, Zgierska 26a\, Łódź
CATEGORIES:Koncerty,Polskie
ATTACH;FMTTYPE=image/jpeg:https://deathmagnetic.pl/wp-content/uploads/2015/03/Scream-Maker.jpg
GEO:51.7835227;19.4522733
X-APPLE-STRUCTURED-LOCATION;VALUE=URI;X-ADDRESS=Luka Zgierska 26a Łódź;X-APPLE-RADIUS=500;X-TITLE=Zgierska 26a:geo:19.4522733,51.7835227
END:VEVENT
END:VCALENDAR