BEGIN:VCALENDAR
VERSION:2.0
PRODID:-//Death Magnetic - ECPv5.10.1//NONSGML v1.0//EN
CALSCALE:GREGORIAN
METHOD:PUBLISH
X-WR-CALNAME:Death Magnetic
X-ORIGINAL-URL:https://deathmagnetic.pl
X-WR-CALDESC:Events for Death Magnetic
BEGIN:VTIMEZONE
TZID:Europe/Warsaw
BEGIN:DAYLIGHT
TZOFFSETFROM:+0100
TZOFFSETTO:+0200
TZNAME:CEST
DTSTART:20150329T010000
END:DAYLIGHT
BEGIN:STANDARD
TZOFFSETFROM:+0200
TZOFFSETTO:+0100
TZNAME:CET
DTSTART:20151025T010000
END:STANDARD
END:VTIMEZONE
BEGIN:VEVENT
DTSTART;TZID=Europe/Warsaw:20150409T190000
DTEND;TZID=Europe/Warsaw:20150409T230000
DTSTAMP:20260421T035404
CREATED:20150316T193935Z
LAST-MODIFIED:20150316T193935Z
UID:75890-1428606000-1428620400@deathmagnetic.pl
SUMMARY:Scarlet Skies + Awakening Sun + Pravia + Unanswered
DESCRIPTION:Ceny biletów: 15zł \nStart: 19:00\nKoniec imprezy: 23:00
URL:https://deathmagnetic.pl/wydarzenie/scarlet-skies-awakening-sun-pravia-unanswered/
LOCATION:Klub Harenda\, Krakowskie Przedmieście 4/6\, Warszawa\, 00-333\, Polska
ATTACH;FMTTYPE=image/jpeg:https://deathmagnetic.pl/wp-content/uploads/2015/03/Scarlet-Skies.jpg
ORGANIZER;CN="Klub%20Harenda":MAILTO:info@harenda.com
GEO:52.2385294;21.0180051
X-APPLE-STRUCTURED-LOCATION;VALUE=URI;X-ADDRESS=Klub Harenda Krakowskie Przedmieście 4/6 Warszawa 00-333 Polska;X-APPLE-RADIUS=500;X-TITLE=Krakowskie Przedmieście 4/6:geo:21.0180051,52.2385294
END:VEVENT
END:VCALENDAR