BEGIN:VCALENDAR
VERSION:2.0
PRODID:-//Death Magnetic - ECPv5.10.1//NONSGML v1.0//EN
CALSCALE:GREGORIAN
METHOD:PUBLISH
X-WR-CALNAME:Death Magnetic
X-ORIGINAL-URL:https://deathmagnetic.pl
X-WR-CALDESC:Events for Death Magnetic
BEGIN:VTIMEZONE
TZID:Europe/Warsaw
BEGIN:DAYLIGHT
TZOFFSETFROM:+0100
TZOFFSETTO:+0200
TZNAME:CEST
DTSTART:20150329T010000
END:DAYLIGHT
BEGIN:STANDARD
TZOFFSETFROM:+0200
TZOFFSETTO:+0100
TZNAME:CET
DTSTART:20151025T010000
END:STANDARD
END:VTIMEZONE
BEGIN:VEVENT
DTSTART;TZID=Europe/Warsaw:20150914T180000
DTEND;TZID=Europe/Warsaw:20150914T230000
DTSTAMP:20260420T222055
CREATED:20150615T160647Z
LAST-MODIFIED:20150615T160647Z
UID:86699-1442253600-1442271600@deathmagnetic.pl
SUMMARY:Saturnus + Autumnal + Doomas
DESCRIPTION:Ceny biletów (przedsprzedaż / w dniu koncertu): 35zł / 45zł \nBilety dostępne m. in. na ticketpro.pl.
URL:https://deathmagnetic.pl/wydarzenie/saturnus-autumnal-doomas/
LOCATION:Rotunda Centrum Kultury\, Oleandry 1\, Kraków\, Polska
CATEGORIES:Koncerty,zagraniczne
ATTACH;FMTTYPE=image/jpeg:https://deathmagnetic.pl/wp-content/uploads/2015/06/Saturnus.jpg
GEO:50.0599625;19.9209144
X-APPLE-STRUCTURED-LOCATION;VALUE=URI;X-ADDRESS=Rotunda Centrum Kultury Oleandry 1 Kraków Polska;X-APPLE-RADIUS=500;X-TITLE=Oleandry 1:geo:19.9209144,50.0599625
END:VEVENT
END:VCALENDAR