BEGIN:VCALENDAR
VERSION:2.0
PRODID:-//Death Magnetic - ECPv5.10.1//NONSGML v1.0//EN
CALSCALE:GREGORIAN
METHOD:PUBLISH
X-WR-CALNAME:Death Magnetic
X-ORIGINAL-URL:https://deathmagnetic.pl
X-WR-CALDESC:Events for Death Magnetic
BEGIN:VTIMEZONE
TZID:Europe/Warsaw
BEGIN:DAYLIGHT
TZOFFSETFROM:+0100
TZOFFSETTO:+0200
TZNAME:CEST
DTSTART:20160327T010000
END:DAYLIGHT
BEGIN:STANDARD
TZOFFSETFROM:+0200
TZOFFSETTO:+0100
TZNAME:CET
DTSTART:20161030T010000
END:STANDARD
END:VTIMEZONE
BEGIN:VEVENT
DTSTART;TZID=Europe/Warsaw:20160311T153000
DTEND;TZID=Europe/Warsaw:20160311T235500
DTSTAMP:20260420T184255
CREATED:20160210T224141Z
LAST-MODIFIED:20160210T224141Z
UID:97305-1457710200-1457740500@deathmagnetic.pl
SUMMARY:Rotunda METAL NATION Festival
DESCRIPTION:OTWARCIE BRAM : 15:30\n16:00-16:30 OVERDRIVE\n16:40-17:10 ROADHOG\n17:20-17:50 SKYANGER\n18:00-18:30 RETRIBUTION\n18:40-19:20 Mastemey\n19:30-20:10 WHOREHOUSE\n20:20-21:20 CEMETERY OF SCREAM\n21:40-22:50 HATE \nBILETY W CENIE:\nprzedsprzedaż – 40 zł\nw dniu – 60 zł\nDOSTĘPNE W :\nKlub Rotunda -ul. Oleandry 1\nMetal Shop – ul. Długa 17a\, I piętro\nPub Grodzka 42 Hard Rock Music – ul.Grodzka 42
URL:https://deathmagnetic.pl/wydarzenie/rotunda-metal-nation-festival/
LOCATION:Rotunda Centrum Kultury\, Oleandry 1\, Kraków\, Polska
CATEGORIES:Festiwale
ATTACH;FMTTYPE=image/jpeg:https://deathmagnetic.pl/wp-content/uploads/2016/02/Rotunda_Metal_Nation_Festiwal.jpg
GEO:50.0599625;19.9209144
X-APPLE-STRUCTURED-LOCATION;VALUE=URI;X-ADDRESS=Rotunda Centrum Kultury Oleandry 1 Kraków Polska;X-APPLE-RADIUS=500;X-TITLE=Oleandry 1:geo:19.9209144,50.0599625
END:VEVENT
END:VCALENDAR