BEGIN:VCALENDAR
VERSION:2.0
PRODID:-//Death Magnetic - ECPv5.10.1//NONSGML v1.0//EN
CALSCALE:GREGORIAN
METHOD:PUBLISH
X-WR-CALNAME:Death Magnetic
X-ORIGINAL-URL:https://deathmagnetic.pl
X-WR-CALDESC:Events for Death Magnetic
BEGIN:VTIMEZONE
TZID:Europe/Warsaw
BEGIN:DAYLIGHT
TZOFFSETFROM:+0100
TZOFFSETTO:+0200
TZNAME:CEST
DTSTART:20180325T010000
END:DAYLIGHT
BEGIN:STANDARD
TZOFFSETFROM:+0200
TZOFFSETTO:+0100
TZNAME:CET
DTSTART:20181028T010000
END:STANDARD
END:VTIMEZONE
BEGIN:VEVENT
DTSTART;TZID=Europe/Warsaw:20180131T180000
DTEND;TZID=Europe/Warsaw:20180131T233000
DTSTAMP:20260420T223719
CREATED:20171102T103013Z
LAST-MODIFIED:20171102T103013Z
UID:151972-1517421600-1517441400@deathmagnetic.pl
SUMMARY:Rotting Christ + Carach Angren\, Svart Crown
DESCRIPTION:Kiedy: 31 stycznia (środa) 2017\nGdzie: Katowice @ MegaClub\, ul. Żelazna 15\nBilety: 70 zł – przedsprzedaż\, 80 zł – w dniu koncertu\nOrganizator: Knock Out Productions \nBilety na koncert dostępne na:\nhttps://sklep.knockoutprod.net/ (druki kolekcjonerskie) 
URL:https://deathmagnetic.pl/wydarzenie/rotting-christ-carach-angren-svart-crown/
LOCATION:MegaClub\,  ul. Żelazna 15\, Katowice\, Polska
CATEGORIES:Koncerty,zagraniczne
ATTACH;FMTTYPE=image/jpeg:https://deathmagnetic.pl/wp-content/uploads/2017/11/Rotting-Christ.jpg
ORGANIZER;CN="KnockOut%20Productions":MAILTO:info@knockoutprod.net
GEO:50.2641959;19.0057694
X-APPLE-STRUCTURED-LOCATION;VALUE=URI;X-ADDRESS=MegaClub  ul. Żelazna 15 Katowice Polska;X-APPLE-RADIUS=500;X-TITLE=ul. Żelazna 15:geo:19.0057694,50.2641959
END:VEVENT
END:VCALENDAR