BEGIN:VCALENDAR
VERSION:2.0
PRODID:-//Death Magnetic - ECPv5.10.1//NONSGML v1.0//EN
CALSCALE:GREGORIAN
METHOD:PUBLISH
X-WR-CALNAME:Death Magnetic
X-ORIGINAL-URL:https://deathmagnetic.pl
X-WR-CALDESC:Events for Death Magnetic
BEGIN:VTIMEZONE
TZID:Europe/Warsaw
BEGIN:DAYLIGHT
TZOFFSETFROM:+0100
TZOFFSETTO:+0200
TZNAME:CEST
DTSTART:20150329T010000
END:DAYLIGHT
BEGIN:STANDARD
TZOFFSETFROM:+0200
TZOFFSETTO:+0100
TZNAME:CET
DTSTART:20151025T010000
END:STANDARD
END:VTIMEZONE
BEGIN:VEVENT
DTSTART;TZID=Europe/Warsaw:20150522T194500
DTEND;TZID=Europe/Warsaw:20150522T230000
DTSTAMP:20260421T092223
CREATED:20150515T154326Z
LAST-MODIFIED:20150515T154326Z
UID:83815-1432323900-1432335600@deathmagnetic.pl
SUMMARY:ROCKOWANIE: KaAtaKilla + Tattva + Alone
DESCRIPTION:Otwarcie bram: 19:45\nKoniec: 23:00
URL:https://deathmagnetic.pl/wydarzenie/rockowanie-kaatakilla-tattva-alone/
LOCATION:Rockowanie w ŁDK\, Traugutta 18\, Łódź\, 90-113 \, Polska
CATEGORIES:Festiwale,Polskie
ATTACH;FMTTYPE=image/jpeg:https://deathmagnetic.pl/wp-content/uploads/2015/05/rockowanie.jpg
GEO:51.7692152;19.4621061
X-APPLE-STRUCTURED-LOCATION;VALUE=URI;X-ADDRESS=Rockowanie w ŁDK Traugutta 18 Łódź 90-113  Polska;X-APPLE-RADIUS=500;X-TITLE=Traugutta 18:geo:19.4621061,51.7692152
END:VEVENT
END:VCALENDAR