BEGIN:VCALENDAR
VERSION:2.0
PRODID:-//Death Magnetic - ECPv5.10.1//NONSGML v1.0//EN
CALSCALE:GREGORIAN
METHOD:PUBLISH
X-WR-CALNAME:Death Magnetic
X-ORIGINAL-URL:https://deathmagnetic.pl
X-WR-CALDESC:Events for Death Magnetic
BEGIN:VTIMEZONE
TZID:Europe/Warsaw
BEGIN:DAYLIGHT
TZOFFSETFROM:+0100
TZOFFSETTO:+0200
TZNAME:CEST
DTSTART:20160327T010000
END:DAYLIGHT
BEGIN:STANDARD
TZOFFSETFROM:+0200
TZOFFSETTO:+0100
TZNAME:CET
DTSTART:20161030T010000
END:STANDARD
END:VTIMEZONE
BEGIN:VEVENT
DTSTART;VALUE=DATE:20160603
DTEND;VALUE=DATE:20160606
DTSTAMP:20260420T103217
CREATED:20160511T165810Z
LAST-MODIFIED:20160512T064958Z
UID:100571-1464912000-1465171199@deathmagnetic.pl
SUMMARY:Rock in Vienna 2016
DESCRIPTION:Od 3.06 do 5.06 w Wiedniu odbędzie się druga edycja festiwalu Rock in Vienna. W 2015 roku festiwalowicze mieli okazję zobaczyć na żywo m. in. Metallicę\, Faith No More\, Kiss czy Muse. W tym roku line – up zapowiada się równie imponująco. Headlinerami będą Rammstein\, Iggy Pop oraz Iron Maiden.  \nCeny na to wydarzenie prezentują się następująco: \nBilety jednodniowe: \n3.06: 89\,90€ \n4.06: 69\,90€\, vip silver 129\,90€\, vip diamond 179\,90€ \n5.06: 89\,90€\, vip silver 149\,90€\, vip diamond 199\,90€ \nBilety dwudniowe: 149\,90€ \nBilety trzydniowe: 179\,90€\, vip silver 399\,90€\, vip diamond 499\,90€ \nBilety można kupować pod tym adresem.
URL:https://deathmagnetic.pl/wydarzenie/rock-in-vienna-3-06-5-06/
LOCATION:DONAUINSEL WIEN\, WIedeń\, Austria
CATEGORIES:Festiwale,patronaty,zagraniczne
ATTACH;FMTTYPE=image/jpeg:https://deathmagnetic.pl/wp-content/uploads/2016/05/hoch.jpg
ORGANIZER;CN="Blue%20Moon%20Entertaiment%20GmbH":MAILTO:office@bluemoon-entertainment.at
GEO:48.2081743;16.3738189
END:VEVENT
END:VCALENDAR