BEGIN:VCALENDAR
VERSION:2.0
PRODID:-//Death Magnetic - ECPv5.10.1//NONSGML v1.0//EN
CALSCALE:GREGORIAN
METHOD:PUBLISH
X-WR-CALNAME:Death Magnetic
X-ORIGINAL-URL:https://deathmagnetic.pl
X-WR-CALDESC:Events for Death Magnetic
BEGIN:VTIMEZONE
TZID:Europe/Warsaw
BEGIN:DAYLIGHT
TZOFFSETFROM:+0100
TZOFFSETTO:+0200
TZNAME:CEST
DTSTART:20160327T010000
END:DAYLIGHT
BEGIN:STANDARD
TZOFFSETFROM:+0200
TZOFFSETTO:+0100
TZNAME:CET
DTSTART:20161030T010000
END:STANDARD
END:VTIMEZONE
BEGIN:VEVENT
DTSTART;VALUE=DATE:20160624
DTEND;VALUE=DATE:20160626
DTSTAMP:20260420T103146
CREATED:20160225T115830Z
LAST-MODIFIED:20160225T115830Z
UID:97749-1466726400-1466899199@deathmagnetic.pl
SUMMARY:Rock Hard Ride Free
DESCRIPTION:Wystąpią:\n– Saxon\,\n– Behemoth\,\n– Raven\,\n– Candlemass\,\n– Night Demon\,\n– Nomadison\,\n– J. D Overdrive\,\n– Forsaken\,\n– Chainsaw\,\n– Cochise \nSprzedaż biletów ruszy już wkrótce!
URL:https://deathmagnetic.pl/wydarzenie/rock-hard-ride-free/
LOCATION:Goleniów Rock City\, Goleniowski Park Przemysłowy\, Goleniów\, mazowieckie\, Polska
CATEGORIES:Festiwale,zagraniczne
ATTACH;FMTTYPE=image/jpeg:https://deathmagnetic.pl/wp-content/uploads/2016/02/rock-hard-ride-free.jpg
GEO:51.8927182;21.0021679
X-APPLE-STRUCTURED-LOCATION;VALUE=URI;X-ADDRESS=Goleniów Rock City Goleniowski Park Przemysłowy Goleniów mazowieckie Polska;X-APPLE-RADIUS=500;X-TITLE=Goleniowski Park Przemysłowy:geo:21.0021679,51.8927182
END:VEVENT
END:VCALENDAR