BEGIN:VCALENDAR
VERSION:2.0
PRODID:-//Death Magnetic - ECPv5.10.1//NONSGML v1.0//EN
CALSCALE:GREGORIAN
METHOD:PUBLISH
X-WR-CALNAME:Death Magnetic
X-ORIGINAL-URL:https://deathmagnetic.pl
X-WR-CALDESC:Events for Death Magnetic
BEGIN:VTIMEZONE
TZID:Europe/Warsaw
BEGIN:DAYLIGHT
TZOFFSETFROM:+0100
TZOFFSETTO:+0200
TZNAME:CEST
DTSTART:20160327T010000
END:DAYLIGHT
BEGIN:STANDARD
TZOFFSETFROM:+0200
TZOFFSETTO:+0100
TZNAME:CET
DTSTART:20161030T010000
END:STANDARD
END:VTIMEZONE
BEGIN:VEVENT
DTSTART;TZID=Europe/Warsaw:20160403T190000
DTEND;TZID=Europe/Warsaw:20160403T230000
DTSTAMP:20260421T044252
CREATED:20160209T222600Z
LAST-MODIFIED:20160303T222200Z
UID:97254-1459710000-1459724400@deathmagnetic.pl
SUMMARY:Riverside [odwołany]
DESCRIPTION:Bilety:\n– 60 zł (http://www.pwevents.pl/pl/bilety\,1\,330.html)\, Biletomat:(https://www.biletomat.pl/koncerty/riverside-3348/)\, Ebilet\, Eventim\, Ticketpro\n– 70 zł (w dniu koncertu)
URL:https://deathmagnetic.pl/wydarzenie/riverside-2/
LOCATION:Esculap\, Przybyszewskiego 39\, Poznań\, 60-356\, Polska
CATEGORIES:Koncerty,Polskie
ATTACH;FMTTYPE=image/jpeg:https://deathmagnetic.pl/wp-content/uploads/2016/02/riverside-poznan.jpg
ORGANIZER;CN="P.W.%20Events":MAILTO:piotr@pwevents.pl
GEO:52.4057549;16.8891735
X-APPLE-STRUCTURED-LOCATION;VALUE=URI;X-ADDRESS=Esculap Przybyszewskiego 39 Poznań 60-356 Polska;X-APPLE-RADIUS=500;X-TITLE=Przybyszewskiego 39:geo:16.8891735,52.4057549
END:VEVENT
END:VCALENDAR