BEGIN:VCALENDAR
VERSION:2.0
PRODID:-//Death Magnetic - ECPv5.10.1//NONSGML v1.0//EN
CALSCALE:GREGORIAN
METHOD:PUBLISH
X-WR-CALNAME:Death Magnetic
X-ORIGINAL-URL:https://deathmagnetic.pl
X-WR-CALDESC:Events for Death Magnetic
BEGIN:VTIMEZONE
TZID:Europe/Warsaw
BEGIN:DAYLIGHT
TZOFFSETFROM:+0100
TZOFFSETTO:+0200
TZNAME:CEST
DTSTART:20180325T010000
END:DAYLIGHT
BEGIN:STANDARD
TZOFFSETFROM:+0200
TZOFFSETTO:+0100
TZNAME:CET
DTSTART:20181028T010000
END:STANDARD
END:VTIMEZONE
BEGIN:VEVENT
DTSTART;TZID=Europe/Warsaw:20180325T190000
DTEND;TZID=Europe/Warsaw:20180325T233000
DTSTAMP:20260421T034355
CREATED:20180303T182514Z
LAST-MODIFIED:20180303T182514Z
UID:155591-1522004400-1522020600@deathmagnetic.pl
SUMMARY:Release Party: Sunnata + ROSK + Black Tundra
DESCRIPTION:Wejściówki:\nPrzedsprzedaż – 25 PLN\nW dniu koncertu – 30 PLN \nJuż 26 marca światło dzienne ujrzy trzecia płyta Sunnaty\, „Outlands”. Z tej okazji kapela postanowiła zorganizować wyjątkowe wydarzenie w warszawskiej Hydrozagadce\, podczas którego po raz pierwszy będzie można usłyszeć utwory z nadchodzącej płyty na żywo! Jak zapowiadają sami muzycy\, to będzie wieczór pełen psychodelii\, transowego i ciężkiego grania.  \nGośćmi specjalnymi będą ROSK (post metal/ambient/ritual) oraz Black Tundra (post/doom/sludge). 
URL:https://deathmagnetic.pl/wydarzenie/release-party-sunnata-rosk-black-tundra/
LOCATION:Hydrozagadka\, 11 listopada 22\, Warszawa\, Polska
CATEGORIES:Koncerty,Polskie
ATTACH;FMTTYPE=image/jpeg:https://deathmagnetic.pl/wp-content/uploads/2018/03/sunnata_rosk_black_tundra.jpg
GEO:52.259164;21.0363389
X-APPLE-STRUCTURED-LOCATION;VALUE=URI;X-ADDRESS=Hydrozagadka 11 listopada 22 Warszawa Polska;X-APPLE-RADIUS=500;X-TITLE=11 listopada 22:geo:21.0363389,52.259164
END:VEVENT
END:VCALENDAR