BEGIN:VCALENDAR
VERSION:2.0
PRODID:-//Death Magnetic - ECPv5.10.1//NONSGML v1.0//EN
CALSCALE:GREGORIAN
METHOD:PUBLISH
X-WR-CALNAME:Death Magnetic
X-ORIGINAL-URL:https://deathmagnetic.pl
X-WR-CALDESC:Events for Death Magnetic
BEGIN:VTIMEZONE
TZID:Europe/Warsaw
BEGIN:DAYLIGHT
TZOFFSETFROM:+0100
TZOFFSETTO:+0200
TZNAME:CEST
DTSTART:20170326T010000
END:DAYLIGHT
BEGIN:STANDARD
TZOFFSETFROM:+0200
TZOFFSETTO:+0100
TZNAME:CET
DTSTART:20171029T010000
END:STANDARD
END:VTIMEZONE
BEGIN:VEVENT
DTSTART;TZID=Europe/Warsaw:20170714T080000
DTEND;TZID=Europe/Warsaw:20170716T235500
DTSTAMP:20260420T103242
CREATED:20170125T112854Z
LAST-MODIFIED:20170419T112907Z
UID:110806-1500019200-1500249300@deathmagnetic.pl
SUMMARY:Red Smoke Festival 2017
DESCRIPTION:RED SMOKE 2017 Pleszew. 14-16.07\nFirst stoner/heavy/retro/doom/psychedelic Open Air Festival in Poland.\nhttp://redsmokefest.pl/ \nWystąpią:\nACID KING (USA)\nKADAVAR (DE)\nELDER (USA) –\nRE-STONED (RU) –\nMAIDAVALE (SWE) –\nBONE MAN (DE) –\nMAMMOTH WEED WIZARD BASTARD (W)\nGIOBIA (IT)\nSASQUATCH (USA)\nEgypt (USA)\nLee Van Cleef (IT) \nOuzo Bazooka (ISR) \nKarnety: WYPRZEDANE!\nBilety jednodniowe: 60zł dostępne na http://redsmoke.8merch.com/services/store \n 
URL:https://deathmagnetic.pl/wydarzenie/red-smoke-festival-2017/
LOCATION:Park Miejski Pleszew\, ul. Sportowa\, Pleszew\, mazowieckie
CATEGORIES:Festiwale
ATTACH;FMTTYPE=image/png:https://deathmagnetic.pl/wp-content/uploads/2017/01/red_smoke_festival_2017.png
ORGANIZER;CN="Red%20Smoke%20Festival":MAILTO:redsmokefest@gmail.com
GEO:51.8882065;17.7814981
X-APPLE-STRUCTURED-LOCATION;VALUE=URI;X-ADDRESS=Park Miejski Pleszew ul. Sportowa Pleszew mazowieckie;X-APPLE-RADIUS=500;X-TITLE=ul. Sportowa:geo:17.7814981,51.8882065
END:VEVENT
END:VCALENDAR