BEGIN:VCALENDAR
VERSION:2.0
PRODID:-//Death Magnetic - ECPv5.10.1//NONSGML v1.0//EN
CALSCALE:GREGORIAN
METHOD:PUBLISH
X-WR-CALNAME:Death Magnetic
X-ORIGINAL-URL:https://deathmagnetic.pl
X-WR-CALDESC:Events for Death Magnetic
BEGIN:VTIMEZONE
TZID:Europe/Warsaw
BEGIN:DAYLIGHT
TZOFFSETFROM:+0100
TZOFFSETTO:+0200
TZNAME:CEST
DTSTART:20150329T010000
END:DAYLIGHT
BEGIN:STANDARD
TZOFFSETFROM:+0200
TZOFFSETTO:+0100
TZNAME:CET
DTSTART:20151025T010000
END:STANDARD
END:VTIMEZONE
BEGIN:VEVENT
DTSTART;TZID=Europe/Warsaw:20150427T200000
DTEND;TZID=Europe/Warsaw:20150427T230000
DTSTAMP:20260421T035259
CREATED:20150217T183838Z
LAST-MODIFIED:20150225T164050Z
UID:70475-1430164800-1430175600@deathmagnetic.pl
SUMMARY:Red Fang + Turbowolf + The Stubs
DESCRIPTION:Ceny biletów (przedsprzedaż / w dniu koncertu): \n– I pula: 60 zł / 80 zł \n– II pula: 70 zł / 80 zł \nBilety dostępne na:\nKnockoutprod\, Eventim\, Ebilet\, TicketPro\, Biletin \nKraków:\n– Sklep Metal Shop\, Długa 17a\n– Stoisko firmy TAKT w GALERII KRAKOWSKIEJ\, Pawia 5\n– Antycafe\, ul. Sławkowska 12- w barze klubu “Fabryka” za okazaniem biletu zakupionego w Jazz Rock Cafe/Antyradio otrzymasz piwo gratis! \nBochnia:\n– Klubokawiarnia\, ul. Kazimierza Wielkiego 21/2\, (codziennie od 16:00) kontakt: 604-090-310\, kontakt@klubo-kawiarnia.pl \nKatowice:\n– Sklep Muzyczny All\, ul. Adama Mickiewicza 14 \nStart: 18:30
URL:https://deathmagnetic.pl/wydarzenie/red-fang-turbowolf-the-stubs/
LOCATION:Fabryka\, ul. Zabłocie 23\, Kraków\, Polska
CATEGORIES:Koncerty,zagraniczne
ATTACH;FMTTYPE=image/jpeg:https://deathmagnetic.pl/wp-content/uploads/2015/02/red_fang_knock_out.jpg
ORGANIZER;CN="KnockOut%20Productions":MAILTO:info@knockoutprod.net
GEO:50.0500744;19.9600714
X-APPLE-STRUCTURED-LOCATION;VALUE=URI;X-ADDRESS=Fabryka ul. Zabłocie 23 Kraków Polska;X-APPLE-RADIUS=500;X-TITLE=ul. Zabłocie 23:geo:19.9600714,50.0500744
END:VEVENT
END:VCALENDAR