BEGIN:VCALENDAR
VERSION:2.0
PRODID:-//Death Magnetic - ECPv5.10.1//NONSGML v1.0//EN
CALSCALE:GREGORIAN
METHOD:PUBLISH
X-WR-CALNAME:Death Magnetic
X-ORIGINAL-URL:https://deathmagnetic.pl
X-WR-CALDESC:Events for Death Magnetic
BEGIN:VTIMEZONE
TZID:Europe/Warsaw
BEGIN:DAYLIGHT
TZOFFSETFROM:+0100
TZOFFSETTO:+0200
TZNAME:CEST
DTSTART:20160327T010000
END:DAYLIGHT
BEGIN:STANDARD
TZOFFSETFROM:+0200
TZOFFSETTO:+0100
TZNAME:CET
DTSTART:20161030T010000
END:STANDARD
END:VTIMEZONE
BEGIN:VEVENT
DTSTART;TZID=Europe/Warsaw:20160313T190000
DTEND;TZID=Europe/Warsaw:20160313T230000
DTSTAMP:20260420T103143
CREATED:20160206T174226Z
LAST-MODIFIED:20160206T174226Z
UID:96982-1457895600-1457910000@deathmagnetic.pl
SUMMARY:Raz Dwa Trzy
DESCRIPTION:Ceny biletów: \nbilety ulgowe: 60 zł\,\nbilety normalne: 65 zł. \nw dniu koncertu:\nbilety ulgowe: 65 zł\,\nbilety normalne: 70 zł. \nBilety dostępne na stronie biletomat.pl
URL:https://deathmagnetic.pl/wydarzenie/raz-dwa-trzy-2/
LOCATION:Wytwórnia\, Łąkowa 29\, Łódź
CATEGORIES:Koncerty,Polskie
ATTACH;FMTTYPE=image/jpeg:https://deathmagnetic.pl/wp-content/uploads/2016/02/raz-dwa-trzy-wytwórnia.jpg
GEO:51.757883;19.443701
X-APPLE-STRUCTURED-LOCATION;VALUE=URI;X-ADDRESS=Wytwórnia Łąkowa 29 Łódź;X-APPLE-RADIUS=500;X-TITLE=Łąkowa 29:geo:19.443701,51.757883
END:VEVENT
END:VCALENDAR