BEGIN:VCALENDAR
VERSION:2.0
PRODID:-//Death Magnetic - ECPv5.10.1//NONSGML v1.0//EN
CALSCALE:GREGORIAN
METHOD:PUBLISH
X-WR-CALNAME:Death Magnetic
X-ORIGINAL-URL:https://deathmagnetic.pl
X-WR-CALDESC:Events for Death Magnetic
BEGIN:VTIMEZONE
TZID:Europe/Warsaw
BEGIN:DAYLIGHT
TZOFFSETFROM:+0100
TZOFFSETTO:+0200
TZNAME:CEST
DTSTART:20160327T010000
END:DAYLIGHT
BEGIN:STANDARD
TZOFFSETFROM:+0200
TZOFFSETTO:+0100
TZNAME:CET
DTSTART:20161030T010000
END:STANDARD
END:VTIMEZONE
BEGIN:VEVENT
DTSTART;TZID=Europe/Warsaw:20161120T190000
DTEND;TZID=Europe/Warsaw:20161120T230000
DTSTAMP:20260421T104322
CREATED:20160710T152037Z
LAST-MODIFIED:20160710T152037Z
UID:103143-1479668400-1479682800@deathmagnetic.pl
SUMMARY:RAGE
DESCRIPTION:Bilety:\nprzedsprzedaż\n– zwykły: 75 zł\n– kolekcjionerski: 78 zł\n– personalizowany (10 sztuk) : 88 zł\nw dniu koncertu: 85 zł \nDostępne:\n– Progresja Music Zone: http://bit.ly/298nJvP\n– Eventim.pl\,\n– ebilet.pl\,\n– Biletomat.pl – bilety online \ni we wszystkich salonach Empik
URL:https://deathmagnetic.pl/wydarzenie/rage/
LOCATION:Progresja\, Fort Wola 22\, Warszawa\, Polska
CATEGORIES:Koncerty,zagraniczne
ATTACH;FMTTYPE=image/jpeg:https://deathmagnetic.pl/wp-content/uploads/2016/07/rage.jpg
ORGANIZER;CN="Progresja":MAILTO:klub@progresja.com
GEO:52.224827;20.9287
X-APPLE-STRUCTURED-LOCATION;VALUE=URI;X-ADDRESS=Progresja Fort Wola 22 Warszawa Polska;X-APPLE-RADIUS=500;X-TITLE=Fort Wola 22:geo:20.9287,52.224827
END:VEVENT
END:VCALENDAR