BEGIN:VCALENDAR
VERSION:2.0
PRODID:-//Death Magnetic - ECPv5.10.1//NONSGML v1.0//EN
CALSCALE:GREGORIAN
METHOD:PUBLISH
X-WR-CALNAME:Death Magnetic
X-ORIGINAL-URL:https://deathmagnetic.pl
X-WR-CALDESC:Events for Death Magnetic
BEGIN:VTIMEZONE
TZID:Europe/Warsaw
BEGIN:DAYLIGHT
TZOFFSETFROM:+0100
TZOFFSETTO:+0200
TZNAME:CEST
DTSTART:20150329T010000
END:DAYLIGHT
BEGIN:STANDARD
TZOFFSETFROM:+0200
TZOFFSETTO:+0100
TZNAME:CET
DTSTART:20151025T010000
END:STANDARD
END:VTIMEZONE
BEGIN:VEVENT
DTSTART;TZID=Europe/Warsaw:20151128T170000
DTEND;TZID=Europe/Warsaw:20151128T230000
DTSTAMP:20260421T104622
CREATED:20150324T160440Z
LAST-MODIFIED:20150324T160440Z
UID:77429-1448730000-1448751600@deathmagnetic.pl
SUMMARY:Queen Symfonicznie
DESCRIPTION:I koncert o godzinie 17:00\nII koncert o godzinie 20:00 \nCeny biletów: \n80zł – przedsprzedaż\n100zł – w dniu koncertu \nBilety dostępne na: \nTicketpro\, w punktach sprzedaży Media Markt\, Saturn\, Empik oraz w kasie Filharmonii. \n 
URL:https://deathmagnetic.pl/wydarzenie/queen-symfonicznie/
LOCATION:Filharmonia Łódzka\, Prezydenta Gabriela Narutowicza 20/22\, Łódź
CATEGORIES:Koncerty,Polskie
ATTACH;FMTTYPE=image/jpeg:https://deathmagnetic.pl/wp-content/uploads/2015/03/Queen-Symfonicznie.jpg
GEO:51.7711188;19.4598123
X-APPLE-STRUCTURED-LOCATION;VALUE=URI;X-ADDRESS=Filharmonia Łódzka Prezydenta Gabriela Narutowicza 20/22 Łódź;X-APPLE-RADIUS=500;X-TITLE=Prezydenta Gabriela Narutowicza 20/22:geo:19.4598123,51.7711188
END:VEVENT
END:VCALENDAR