BEGIN:VCALENDAR
VERSION:2.0
PRODID:-//Death Magnetic - ECPv5.10.1//NONSGML v1.0//EN
CALSCALE:GREGORIAN
METHOD:PUBLISH
X-WR-CALNAME:Death Magnetic
X-ORIGINAL-URL:https://deathmagnetic.pl
X-WR-CALDESC:Events for Death Magnetic
BEGIN:VTIMEZONE
TZID:Europe/Warsaw
BEGIN:DAYLIGHT
TZOFFSETFROM:+0100
TZOFFSETTO:+0200
TZNAME:CEST
DTSTART:20160327T010000
END:DAYLIGHT
BEGIN:STANDARD
TZOFFSETFROM:+0200
TZOFFSETTO:+0100
TZNAME:CET
DTSTART:20161030T010000
END:STANDARD
END:VTIMEZONE
BEGIN:VEVENT
DTSTART;TZID=Europe/Warsaw:20161104T190000
DTEND;TZID=Europe/Warsaw:20161104T235500
DTSTAMP:20260421T123456
CREATED:20161015T222906Z
LAST-MODIFIED:20161015T222906Z
UID:106584-1478286000-1478303700@deathmagnetic.pl
SUMMARY:Pull The Wire + Lej Mi Pół + Free Trip
DESCRIPTION:Bilety:\n15 zł (przedsprzedaż)\n25 zł (w dniu koncertu)\nBilety kolekcjonerskie są już do kupienia w salonie wydawniczym „Czas” przy ulicy Zwycięstwa 1 w Gliwicach oraz w Pubie Czerwona Cegła.\nBilety w przedsprzedaży są w ograniczonej ilości\, więc radzimy nie zwlekać do ostatniej chwili!
URL:https://deathmagnetic.pl/wydarzenie/pull-the-wire-lej-mi-pol-free-trip/
LOCATION:Pub Czerwona Cegła\, Dworcowa 50\, Gliwice\, Polska
CATEGORIES:Koncerty,patronaty,Polskie
ATTACH;FMTTYPE=image/jpeg:https://deathmagnetic.pl/wp-content/uploads/2016/10/PTWLMPFT-4.11-plakat.jpg
GEO:50.2952262;18.6739641
X-APPLE-STRUCTURED-LOCATION;VALUE=URI;X-ADDRESS=Pub Czerwona Cegła Dworcowa 50 Gliwice Polska;X-APPLE-RADIUS=500;X-TITLE=Dworcowa 50:geo:18.6739641,50.2952262
END:VEVENT
END:VCALENDAR