BEGIN:VCALENDAR
VERSION:2.0
PRODID:-//Death Magnetic - ECPv5.10.1//NONSGML v1.0//EN
CALSCALE:GREGORIAN
METHOD:PUBLISH
X-WR-CALNAME:Death Magnetic
X-ORIGINAL-URL:https://deathmagnetic.pl
X-WR-CALDESC:Events for Death Magnetic
BEGIN:VTIMEZONE
TZID:Europe/Warsaw
BEGIN:DAYLIGHT
TZOFFSETFROM:+0100
TZOFFSETTO:+0200
TZNAME:CEST
DTSTART:20170326T010000
END:DAYLIGHT
BEGIN:STANDARD
TZOFFSETFROM:+0200
TZOFFSETTO:+0100
TZNAME:CET
DTSTART:20171029T010000
END:STANDARD
END:VTIMEZONE
BEGIN:VEVENT
DTSTART;TZID=Europe/Warsaw:20170917T190000
DTEND;TZID=Europe/Warsaw:20170917T230000
DTSTAMP:20260420T123914
CREATED:20170914T124719Z
LAST-MODIFIED:20170914T124755Z
UID:150812-1505674800-1505689200@deathmagnetic.pl
SUMMARY:Przybij Piątaka: Dirty Sound Magnet + Brain Donation + Hipnotyk
DESCRIPTION:Rock\, rock\, rock! 17-go września na Piątakowej scenie będzie roiło się od świetnych\, rockowych kapel! Będziemy mieli m.in\, dwóch gości z zagranicy! Zagrają: \nDirty Sound Magnet (Szwajcaria)\nBrain Donation (Irlandia)\nHipnotyk (Polska) \nWstęp (jak zwykle) – od złotówki w górę\, zapraszamy!
URL:https://deathmagnetic.pl/wydarzenie/przybij-piataka-dirty-sound-magnet-brain-donation-hipnotyk/
LOCATION:Przybij Piątaka\, Jana Ewangelisty Purkyniego 1\, Wrocław\, mazowieckie\, Polska
CATEGORIES:Koncerty,patronaty,zagraniczne
ATTACH;FMTTYPE=image/jpeg:https://deathmagnetic.pl/wp-content/uploads/2017/09/17.09piątak.jpg
GEO:51.1101998;17.0396273
X-APPLE-STRUCTURED-LOCATION;VALUE=URI;X-ADDRESS=Przybij Piątaka Jana Ewangelisty Purkyniego 1 Wrocław mazowieckie Polska;X-APPLE-RADIUS=500;X-TITLE=Jana Ewangelisty Purkyniego 1:geo:17.0396273,51.1101998
END:VEVENT
END:VCALENDAR