BEGIN:VCALENDAR
VERSION:2.0
PRODID:-//Death Magnetic - ECPv5.10.1//NONSGML v1.0//EN
CALSCALE:GREGORIAN
METHOD:PUBLISH
X-WR-CALNAME:Death Magnetic
X-ORIGINAL-URL:https://deathmagnetic.pl
X-WR-CALDESC:Events for Death Magnetic
BEGIN:VTIMEZONE
TZID:Europe/Warsaw
BEGIN:DAYLIGHT
TZOFFSETFROM:+0100
TZOFFSETTO:+0200
TZNAME:CEST
DTSTART:20170326T010000
END:DAYLIGHT
BEGIN:STANDARD
TZOFFSETFROM:+0200
TZOFFSETTO:+0100
TZNAME:CET
DTSTART:20171029T010000
END:STANDARD
END:VTIMEZONE
BEGIN:VEVENT
DTSTART;TZID=Europe/Warsaw:20171013T193000
DTEND;TZID=Europe/Warsaw:20171013T230000
DTSTAMP:20260420T095206
CREATED:20170613T082014Z
LAST-MODIFIED:20170613T082542Z
UID:119186-1507923000-1507935600@deathmagnetic.pl
SUMMARY:Proletaryat + Corruption
DESCRIPTION:Jubileuszowa trasa grupy Proletaryat na XXX-lecie istnienia. W związku z tą rocznicą jesienią odbędzie się jubileuszowa trasa koncertowa przypominająca dotychczasowe dokonania Proletaryatu. Podczas koncertów będzie można usłyszeć przekrojowy materiał z dotychczas wydanych albumów\, a przede wszystkim najbardziej znane kawałki jak m.in.: „Pokój z kulą w głowie”\, „Jak ptak”\, „Inny ktoś”\, „Nie wyrażam zgody”. \nJako gość specjalny pojawi się na trasie zespół Corruption wykonujący piorunującą mieszankę metalu i stoner rocka. Na jesiennych koncertach planują promocję najnowszego 8 albumu\, którego nagrania odbędą się w lipcu i sierpniu. \nInformacje na temat miejsca sprzedaży i ceny wejściówek pojawią się już wkrótce!
URL:https://deathmagnetic.pl/wydarzenie/proletaryat-corruption/
LOCATION:Warszawa\, mazowieckie\, Polska
CATEGORIES:Koncerty,patronaty,Polskie
ATTACH;FMTTYPE=image/jpeg:https://deathmagnetic.pl/wp-content/uploads/2017/06/proletaryat_corruption.jpg
END:VEVENT
END:VCALENDAR