BEGIN:VCALENDAR
VERSION:2.0
PRODID:-//Death Magnetic - ECPv5.10.1//NONSGML v1.0//EN
CALSCALE:GREGORIAN
METHOD:PUBLISH
X-WR-CALNAME:Death Magnetic
X-ORIGINAL-URL:https://deathmagnetic.pl
X-WR-CALDESC:Events for Death Magnetic
BEGIN:VTIMEZONE
TZID:Europe/Warsaw
BEGIN:DAYLIGHT
TZOFFSETFROM:+0100
TZOFFSETTO:+0200
TZNAME:CEST
DTSTART:20150329T010000
END:DAYLIGHT
BEGIN:STANDARD
TZOFFSETFROM:+0200
TZOFFSETTO:+0100
TZNAME:CET
DTSTART:20151025T010000
END:STANDARD
END:VTIMEZONE
BEGIN:VEVENT
DTSTART;TZID=Europe/Warsaw:20150525T200000
DTEND;TZID=Europe/Warsaw:20150525T220000
DTSTAMP:20260421T121617
CREATED:20150519T173237Z
LAST-MODIFIED:20150519T173237Z
UID:84079-1432584000-1432591200@deathmagnetic.pl
SUMMARY:Projekcja koncertu "Aerosmith: Rocks Donington 2014"
DESCRIPTION:Ceny biletów: 20zł \nStart: 20:00 \nProjekcja odbędzie się w wybranych kinach sieci Multikino: Bydgoszcz\, Gdańsk\, Gdynia\, Koszalin\, Kraków\, Łódź\, Olsztyn\, Poznań 51\, Rybnik\, Rzeszów\, Szczecin\, Warszawa – Złote Tarasy\, Wrocław Pasaż\, Zabrze\, Lublin\, Katowice.
URL:https://deathmagnetic.pl/wydarzenie/projekcja-koncertu-aerosmith-rocks-donington-2014/
ATTACH;FMTTYPE=image/jpeg:https://deathmagnetic.pl/wp-content/uploads/2015/05/aerosmith.jpg
END:VEVENT
END:VCALENDAR