BEGIN:VCALENDAR
VERSION:2.0
PRODID:-//Death Magnetic - ECPv5.10.1//NONSGML v1.0//EN
CALSCALE:GREGORIAN
METHOD:PUBLISH
X-WR-CALNAME:Death Magnetic
X-ORIGINAL-URL:https://deathmagnetic.pl
X-WR-CALDESC:Events for Death Magnetic
BEGIN:VTIMEZONE
TZID:Europe/Warsaw
BEGIN:DAYLIGHT
TZOFFSETFROM:+0100
TZOFFSETTO:+0200
TZNAME:CEST
DTSTART:20150329T010000
END:DAYLIGHT
BEGIN:STANDARD
TZOFFSETFROM:+0200
TZOFFSETTO:+0100
TZNAME:CET
DTSTART:20151025T010000
END:STANDARD
END:VTIMEZONE
BEGIN:VEVENT
DTSTART;TZID=Europe/Warsaw:20151008T200000
DTEND;TZID=Europe/Warsaw:20151008T220000
DTSTAMP:20260421T104942
CREATED:20151007T095908Z
LAST-MODIFIED:20151007T095908Z
UID:93017-1444334400-1444341600@deathmagnetic.pl
SUMMARY:Projekcja filmu "Roger Waters: The Wall"
DESCRIPTION:Ceny biletów: 25zł \nCzas trwania: 155 minut + nagranie rozmowy Rogera Watersa z Nickiem Masonem \nStart (8.10): 20:00 \n„Roger Waters The Wall” będzie można zobaczyć w wybranych kinach sieci Multikino: Bydgoszcz\, Gdańsk\, Gdynia\, Kraków\, Łódź\, Olsztyn\, Poznań 51\, Rybnik\, Rzeszów\, Szczecin\, Warszawa – Złote Tarasy\, Wrocław Pasaż\, Zabrze\, Lublin\, Katowice.
URL:https://deathmagnetic.pl/wydarzenie/projekcja-filmu-roger-waters-the-wall/
ATTACH;FMTTYPE=image/jpeg:https://deathmagnetic.pl/wp-content/uploads/2015/10/rogerwaters1.jpg
END:VEVENT
END:VCALENDAR