BEGIN:VCALENDAR
VERSION:2.0
PRODID:-//Death Magnetic - ECPv5.10.1//NONSGML v1.0//EN
CALSCALE:GREGORIAN
METHOD:PUBLISH
X-WR-CALNAME:Death Magnetic
X-ORIGINAL-URL:https://deathmagnetic.pl
X-WR-CALDESC:Events for Death Magnetic
BEGIN:VTIMEZONE
TZID:Europe/Warsaw
BEGIN:DAYLIGHT
TZOFFSETFROM:+0100
TZOFFSETTO:+0200
TZNAME:CEST
DTSTART:20150329T010000
END:DAYLIGHT
BEGIN:STANDARD
TZOFFSETFROM:+0200
TZOFFSETTO:+0100
TZNAME:CET
DTSTART:20151025T010000
END:STANDARD
END:VTIMEZONE
BEGIN:VEVENT
DTSTART;VALUE=DATE:20150929
DTEND;VALUE=DATE:20150930
DTSTAMP:20260421T074738
CREATED:20150824T204402Z
LAST-MODIFIED:20150824T204402Z
UID:90657-1443484800-1443571199@deathmagnetic.pl
SUMMARY:Projekcja filmu „Roger Waters: The Wall”
DESCRIPTION:Ceny biletów: 25zł \nCzas trwania: 155 minut + nagranie rozmowy Rogera Watersa z Nickiem Masonem \nStart (29.09): 20:00 \n„Roger Waters The Wall” będzie można zobaczyć w wybranych kinach sieci Multikino: Bydgoszcz\, Gdańsk\, Gdynia\, Koszalin\, Kraków\, Łódź\, Olsztyn\, Poznań 51\, Rybnik\, Rzeszów\, Szczecin\, Warszawa – Złote Tarasy\, Wrocław Pasaż\, Zabrze\, Lublin\, Katowice.
URL:https://deathmagnetic.pl/wydarzenie/projekcja-filmu-roger-waters-the-wall-2/
ATTACH;FMTTYPE=image/jpeg:https://deathmagnetic.pl/wp-content/uploads/2015/08/Multikino-RogerWaters-Deathmagnetic-1078x516.jpg
END:VEVENT
END:VCALENDAR