BEGIN:VCALENDAR
VERSION:2.0
PRODID:-//Death Magnetic - ECPv5.10.1//NONSGML v1.0//EN
CALSCALE:GREGORIAN
METHOD:PUBLISH
X-WR-CALNAME:Death Magnetic
X-ORIGINAL-URL:https://deathmagnetic.pl
X-WR-CALDESC:Events for Death Magnetic
BEGIN:VTIMEZONE
TZID:Europe/Warsaw
BEGIN:DAYLIGHT
TZOFFSETFROM:+0100
TZOFFSETTO:+0200
TZNAME:CEST
DTSTART:20150329T010000
END:DAYLIGHT
BEGIN:STANDARD
TZOFFSETFROM:+0200
TZOFFSETTO:+0100
TZNAME:CET
DTSTART:20151025T010000
END:STANDARD
END:VTIMEZONE
BEGIN:VEVENT
DTSTART;VALUE=DATE:20150423
DTEND;VALUE=DATE:20150501
DTSTAMP:20260421T055443
CREATED:20150413T123249Z
LAST-MODIFIED:20150420T145203Z
UID:80048-1429747200-1430438399@deathmagnetic.pl
SUMMARY:Projekcja filmu "Cobain: Montage of Heck"
DESCRIPTION:Ceny biletów (normalne/Facebook/Multikino&Gala): 25zł/20zł/20zł \nCzas trwania: 144 minuty – 132 minuty filmu i 12 minut materiałów ekskluzywnych. \nStart (23.04. – 28.04 oraz 30.04): 20:00\nStart (29.04.): 17:00 \n„Cobain: Montage of Heck” będzie można zobaczyć w wybranych kinach sieci Multikino: Bydgoszcz\, Gdańsk\, Gdynia\, Katowice\, Koszalin\, Kraków\, Lublin\, Łódź\, Olsztyn\, Poznań 51\, Rybnik\, Rzeszów\, Szczecin\, Warszawa – Ursynów Warszawa – Złote Tarasy\, Wrocław Arkady\, Wrocław Pasaż\, Zabrze.
URL:https://deathmagnetic.pl/wydarzenie/projekcja-filmu-cobain-montage-of-heck/
ATTACH;FMTTYPE=image/jpeg:https://deathmagnetic.pl/wp-content/uploads/2015/04/cobain-montage-of-heck3.jpg
END:VEVENT
END:VCALENDAR