BEGIN:VCALENDAR
VERSION:2.0
PRODID:-//Death Magnetic - ECPv5.10.1//NONSGML v1.0//EN
CALSCALE:GREGORIAN
METHOD:PUBLISH
X-WR-CALNAME:Death Magnetic
X-ORIGINAL-URL:https://deathmagnetic.pl
X-WR-CALDESC:Events for Death Magnetic
BEGIN:VTIMEZONE
TZID:Europe/Warsaw
BEGIN:DAYLIGHT
TZOFFSETFROM:+0100
TZOFFSETTO:+0200
TZNAME:CEST
DTSTART:20160327T010000
END:DAYLIGHT
BEGIN:STANDARD
TZOFFSETFROM:+0200
TZOFFSETTO:+0100
TZNAME:CET
DTSTART:20161030T010000
END:STANDARD
END:VTIMEZONE
BEGIN:VEVENT
DTSTART;VALUE=DATE:20160224
DTEND;VALUE=DATE:20160225
DTSTAMP:20260421T091220
CREATED:20160215T133257Z
LAST-MODIFIED:20160215T133257Z
UID:97423-1456272000-1456358399@deathmagnetic.pl
SUMMARY:PRL JAM
DESCRIPTION:PRL JAM – Pearl Jam Coverband \nWstęp od godz.: 19:30\nRozpoczęcie koncertu: 20:30 \nBilety 10 zł dostępne przed koncertem.
URL:https://deathmagnetic.pl/wydarzenie/prl-jam/
LOCATION:Klub Bezsenność\, ul. Ruska 51\, Wrocław\, dolnośląskie\, 50-079\, Polska
CATEGORIES:Koncerty,Polskie
ATTACH;FMTTYPE=image/jpeg:https://deathmagnetic.pl/wp-content/uploads/2016/02/12622412_1120697641275323_3680839895605913041_o.jpg
ORGANIZER;CN="Klub%20Bezsenno%C5%9B%C4%87":MAILTO:koncerty@bezsennoscklub.com
GEO:51.1105427;17.0255702
X-APPLE-STRUCTURED-LOCATION;VALUE=URI;X-ADDRESS=Klub Bezsenność ul. Ruska 51 Wrocław dolnośląskie 50-079 Polska;X-APPLE-RADIUS=500;X-TITLE=ul. Ruska 51:geo:17.0255702,51.1105427
END:VEVENT
END:VCALENDAR