BEGIN:VCALENDAR
VERSION:2.0
PRODID:-//Death Magnetic - ECPv5.10.1//NONSGML v1.0//EN
CALSCALE:GREGORIAN
METHOD:PUBLISH
X-WR-CALNAME:Death Magnetic
X-ORIGINAL-URL:https://deathmagnetic.pl
X-WR-CALDESC:Events for Death Magnetic
BEGIN:VTIMEZONE
TZID:Europe/Warsaw
BEGIN:DAYLIGHT
TZOFFSETFROM:+0100
TZOFFSETTO:+0200
TZNAME:CEST
DTSTART:20160327T010000
END:DAYLIGHT
BEGIN:STANDARD
TZOFFSETFROM:+0200
TZOFFSETTO:+0100
TZNAME:CET
DTSTART:20161030T010000
END:STANDARD
END:VTIMEZONE
BEGIN:VEVENT
DTSTART;TZID=Europe/Warsaw:20160520T190000
DTEND;TZID=Europe/Warsaw:20160520T235500
DTSTAMP:20260421T074754
CREATED:20160502T203121Z
LAST-MODIFIED:20160504T141901Z
UID:100268-1463770800-1463788500@deathmagnetic.pl
SUMMARY:Pravia + Saltus + Black Velvet Band + Elforg
DESCRIPTION:Pagan fest „Droga do Prawii” Browar Perun oraz Heart of Rock zapraszają! 2 urodziny zespołu Pravia\, a zagrają:\nPRAVIA + SALTUS + BLACK VELVET BAND + ELFORG\nRock Stage by ClubRock – nowe miejsce na rockowej mapie Warszawy – 600 m2 klubu\, scena\, vip sala z kominkiem\, rurą i widokiem na parkiet\, antresola z własnym barem\, ogród zimowy oraz ogródek grillowy z plażą.\nul. Kolejowa 8\nWejście: 20/25 zł.
URL:https://deathmagnetic.pl/wydarzenie/pravia-saltus-black-velvet-band-elforg/
LOCATION:Club Rock\, ul. Zgoda 9\, Warszawa\, Polska
CATEGORIES:Koncerty,patronaty,Polskie
ATTACH;FMTTYPE=image/jpeg:https://deathmagnetic.pl/wp-content/uploads/2016/05/Pagan-Fest.jpg
ORGANIZER;CN="Pagan%20Fest.%20%22Droga%20do%20Prawii%22":MAILTO:paganfestiwal@gmail.com
GEO:52.2331769;21.011722
X-APPLE-STRUCTURED-LOCATION;VALUE=URI;X-ADDRESS=Club Rock ul. Zgoda 9 Warszawa Polska;X-APPLE-RADIUS=500;X-TITLE=ul. Zgoda 9:geo:21.011722,52.2331769
END:VEVENT
END:VCALENDAR