BEGIN:VCALENDAR
VERSION:2.0
PRODID:-//Death Magnetic - ECPv5.10.1//NONSGML v1.0//EN
CALSCALE:GREGORIAN
METHOD:PUBLISH
X-WR-CALNAME:Death Magnetic
X-ORIGINAL-URL:https://deathmagnetic.pl
X-WR-CALDESC:Events for Death Magnetic
BEGIN:VTIMEZONE
TZID:Europe/Warsaw
BEGIN:DAYLIGHT
TZOFFSETFROM:+0100
TZOFFSETTO:+0200
TZNAME:CEST
DTSTART:20150329T010000
END:DAYLIGHT
BEGIN:STANDARD
TZOFFSETFROM:+0200
TZOFFSETTO:+0100
TZNAME:CET
DTSTART:20151025T010000
END:STANDARD
END:VTIMEZONE
BEGIN:VEVENT
DTSTART;VALUE=DATE:20150723
DTEND;VALUE=DATE:20150727
DTSTAMP:20260421T092055
CREATED:20150717T123756Z
LAST-MODIFIED:20150717T131258Z
UID:88022-1437609600-1437955199@deathmagnetic.pl
SUMMARY:Powidz Jam Festiwal 2015
DESCRIPTION:Wjazd: free
URL:https://deathmagnetic.pl/wydarzenie/powidz-jam-festiwal-2015/
LOCATION:Jezioro Powidzkie\, Powidz\, 62-402\, Polska
CATEGORIES:Festiwale,Polskie
ATTACH;FMTTYPE=image/png:https://deathmagnetic.pl/wp-content/uploads/2015/07/powidz-jam-fest-2015.png
GEO:52.4127967;17.9186809
END:VEVENT
END:VCALENDAR