BEGIN:VCALENDAR
VERSION:2.0
PRODID:-//Death Magnetic - ECPv5.10.1//NONSGML v1.0//EN
CALSCALE:GREGORIAN
METHOD:PUBLISH
X-WR-CALNAME:Death Magnetic
X-ORIGINAL-URL:https://deathmagnetic.pl
X-WR-CALDESC:Events for Death Magnetic
BEGIN:VTIMEZONE
TZID:Europe/Warsaw
BEGIN:DAYLIGHT
TZOFFSETFROM:+0100
TZOFFSETTO:+0200
TZNAME:CEST
DTSTART:20150329T010000
END:DAYLIGHT
BEGIN:STANDARD
TZOFFSETFROM:+0200
TZOFFSETTO:+0100
TZNAME:CET
DTSTART:20151025T010000
END:STANDARD
END:VTIMEZONE
BEGIN:VEVENT
DTSTART;VALUE=DATE:20151024
DTEND;VALUE=DATE:20151025
DTSTAMP:20260421T130328
CREATED:20151001T075245Z
LAST-MODIFIED:20151001T075245Z
UID:92751-1445644800-1445731199@deathmagnetic.pl
SUMMARY:Pidżama Porno + Hurt + Fri Stejdż Bend
DESCRIPTION:Bilety: przedsprzedaż: 60 zł / w dniu koncertu: 70 zł \nMiejsca sprzedaży: bileteria Palladium\, ul. Złota 9 (od 1.09.2015)\, bileterie Empik\, sieć sklepów Media Markt i Saturn \nSprzedaż online: palladium.art.pl\, ebilet.pl\, eventim.pl\, ticketpro.pl
URL:https://deathmagnetic.pl/wydarzenie/pidzama-porno-hurt-fri-stejdz-bend/
LOCATION:Palladium\, ul. Złota 9\, Warszawa\, Mazowieckie\, 00-019\, Polska
CATEGORIES:Koncerty,Polskie
ATTACH;FMTTYPE=image/jpeg:https://deathmagnetic.pl/wp-content/uploads/2015/10/pidzama2015_1-01.jpg
GEO:52.2326711;21.0114262
X-APPLE-STRUCTURED-LOCATION;VALUE=URI;X-ADDRESS=Palladium ul. Złota 9 Warszawa Mazowieckie 00-019 Polska;X-APPLE-RADIUS=500;X-TITLE=ul. Złota 9:geo:21.0114262,52.2326711
END:VEVENT
END:VCALENDAR