BEGIN:VCALENDAR
VERSION:2.0
PRODID:-//Death Magnetic - ECPv5.10.1//NONSGML v1.0//EN
CALSCALE:GREGORIAN
METHOD:PUBLISH
X-WR-CALNAME:Death Magnetic
X-ORIGINAL-URL:https://deathmagnetic.pl
X-WR-CALDESC:Events for Death Magnetic
BEGIN:VTIMEZONE
TZID:Europe/Warsaw
BEGIN:DAYLIGHT
TZOFFSETFROM:+0100
TZOFFSETTO:+0200
TZNAME:CEST
DTSTART:20150329T010000
END:DAYLIGHT
BEGIN:STANDARD
TZOFFSETFROM:+0200
TZOFFSETTO:+0100
TZNAME:CET
DTSTART:20151025T010000
END:STANDARD
END:VTIMEZONE
BEGIN:VEVENT
DTSTART;TZID=Europe/Warsaw:20150307T200000
DTEND;TZID=Europe/Warsaw:20150307T230000
DTSTAMP:20260421T085330
CREATED:20150301T175035Z
LAST-MODIFIED:20150302T105108Z
UID:74677-1425758400-1425769200@deathmagnetic.pl
SUMMARY:Piaf! The Show
DESCRIPTION:Ceny biletów: \n– z kartą Wytwórni: 120 zł  \n– bez karty Wytwórni: 130 zł  \nBilety dostępne na: \nGoodMusic \nStart: 20:00 \n 
URL:https://deathmagnetic.pl/wydarzenie/piaf-the-show/
LOCATION:Wytwórnia\, Łąkowa 29\, Łódź
CATEGORIES:Koncerty,zagraniczne
ATTACH;FMTTYPE=image/jpeg:https://deathmagnetic.pl/wp-content/uploads/2015/03/542d18fbd96d1.jpg
GEO:51.757883;19.443701
X-APPLE-STRUCTURED-LOCATION;VALUE=URI;X-ADDRESS=Wytwórnia Łąkowa 29 Łódź;X-APPLE-RADIUS=500;X-TITLE=Łąkowa 29:geo:19.443701,51.757883
END:VEVENT
END:VCALENDAR