BEGIN:VCALENDAR
VERSION:2.0
PRODID:-//Death Magnetic - ECPv5.10.1//NONSGML v1.0//EN
CALSCALE:GREGORIAN
METHOD:PUBLISH
X-WR-CALNAME:Death Magnetic
X-ORIGINAL-URL:https://deathmagnetic.pl
X-WR-CALDESC:Events for Death Magnetic
BEGIN:VTIMEZONE
TZID:Europe/Warsaw
BEGIN:DAYLIGHT
TZOFFSETFROM:+0100
TZOFFSETTO:+0200
TZNAME:CEST
DTSTART:20150329T010000
END:DAYLIGHT
BEGIN:STANDARD
TZOFFSETFROM:+0200
TZOFFSETTO:+0100
TZNAME:CET
DTSTART:20151025T010000
END:STANDARD
END:VTIMEZONE
BEGIN:VEVENT
DTSTART;TZID=Europe/Warsaw:20150313T200000
DTEND;TZID=Europe/Warsaw:20150313T220000
DTSTAMP:20260420T085838
CREATED:20150301T110549Z
LAST-MODIFIED:20150301T112153Z
UID:74619-1426276800-1426284000@deathmagnetic.pl
SUMMARY:Philm
DESCRIPTION:Ceny biletów: \n55/65/75 zł \nBilety dostępne na: \nPwevents\, Ebilet\, Ticketpro\, Eventim\, Blue Note\, Rock Long Luck\, Carton Shop\, Satisfaction Scar \n 
URL:https://deathmagnetic.pl/wydarzenie/philm-4/
LOCATION:Blue Note Jazz Club\, ul. Kościuszki 79\, Poznań\, 61-891\, Polska
CATEGORIES:Koncerty,zagraniczne
ATTACH;FMTTYPE=image/jpeg:https://deathmagnetic.pl/wp-content/uploads/2015/03/philm_poznan_blue_note_2015.jpg
ORGANIZER;CN="P.W.%20Events":MAILTO:piotr@pwevents.pl
END:VEVENT
END:VCALENDAR