BEGIN:VCALENDAR
VERSION:2.0
PRODID:-//Death Magnetic - ECPv5.10.1//NONSGML v1.0//EN
CALSCALE:GREGORIAN
METHOD:PUBLISH
X-WR-CALNAME:Death Magnetic
X-ORIGINAL-URL:https://deathmagnetic.pl
X-WR-CALDESC:Events for Death Magnetic
BEGIN:VTIMEZONE
TZID:Europe/Warsaw
BEGIN:DAYLIGHT
TZOFFSETFROM:+0100
TZOFFSETTO:+0200
TZNAME:CEST
DTSTART:20150329T010000
END:DAYLIGHT
BEGIN:STANDARD
TZOFFSETFROM:+0200
TZOFFSETTO:+0100
TZNAME:CET
DTSTART:20151025T010000
END:STANDARD
END:VTIMEZONE
BEGIN:VEVENT
DTSTART;TZID=Europe/Warsaw:20150311T200000
DTEND;TZID=Europe/Warsaw:20150311T220000
DTSTAMP:20260421T073915
CREATED:20150301T104241Z
LAST-MODIFIED:20150301T104241Z
UID:74616-1426104000-1426111200@deathmagnetic.pl
SUMMARY:Philm
DESCRIPTION:Ceny biletów: \n55 zł \nBilety dostępne na: \nTicketpro\, Ekobilet\, Empik\, Klub Firlej \nStart: 20:00
URL:https://deathmagnetic.pl/wydarzenie/philm-3/
LOCATION:Klub Firlej\, ul. Grabiszyńska 56\, Wrocław\, 53-504\, Polska
CATEGORIES:Koncerty,zagraniczne
ATTACH;FMTTYPE=image/jpeg:https://deathmagnetic.pl/wp-content/uploads/2015/03/philm_wroclaw_klub_firlej_2015.jpg
GEO:51.1023114;17.0145386
X-APPLE-STRUCTURED-LOCATION;VALUE=URI;X-ADDRESS=Klub Firlej ul. Grabiszyńska 56 Wrocław 53-504 Polska;X-APPLE-RADIUS=500;X-TITLE=ul. Grabiszyńska 56:geo:17.0145386,51.1023114
END:VEVENT
END:VCALENDAR