BEGIN:VCALENDAR
VERSION:2.0
PRODID:-//Death Magnetic - ECPv5.10.1//NONSGML v1.0//EN
CALSCALE:GREGORIAN
METHOD:PUBLISH
X-WR-CALNAME:Death Magnetic
X-ORIGINAL-URL:https://deathmagnetic.pl
X-WR-CALDESC:Events for Death Magnetic
BEGIN:VTIMEZONE
TZID:Europe/Warsaw
BEGIN:DAYLIGHT
TZOFFSETFROM:+0100
TZOFFSETTO:+0200
TZNAME:CEST
DTSTART:20160327T010000
END:DAYLIGHT
BEGIN:STANDARD
TZOFFSETFROM:+0200
TZOFFSETTO:+0100
TZNAME:CET
DTSTART:20161030T010000
END:STANDARD
END:VTIMEZONE
BEGIN:VEVENT
DTSTART;TZID=Europe/Warsaw:20161024T190000
DTEND;TZID=Europe/Warsaw:20161024T220000
DTSTAMP:20260421T074022
CREATED:20160509T104539Z
LAST-MODIFIED:20161019T101445Z
UID:100456-1477335600-1477346400@deathmagnetic.pl
SUMMARY:Phil Campbell and the Bastard Sons
DESCRIPTION:Otwarcie bram: 19:00\nStart: 20:00 \nCeny biletów:\n120 PLN – przedsprzedaż\n140 PLN – w dniu koncertu\n\nBilety do nabycia na stronach:\nwww.shop.metalmind.com.pl\, www.ticketpro.pl\, www.eventim.pl\, www.ebilet.pl\, www.biletin.pl
URL:https://deathmagnetic.pl/wydarzenie/phil-campbells-all-starr-band/
LOCATION:Proxima\, ul. Żwirki i Wigury 99\, Warszawa\, Polska
CATEGORIES:Koncerty,patronaty,zagraniczne
ATTACH;FMTTYPE=image/jpeg:https://deathmagnetic.pl/wp-content/uploads/2016/05/14608706_10154562310191069_4029679070603880961_o.jpg
ORGANIZER;CN="Metal%20Mind%20Productions":MAILTO:office1@metalmind.com.pl
GEO:52.212567;20.987187
X-APPLE-STRUCTURED-LOCATION;VALUE=URI;X-ADDRESS=Proxima ul. Żwirki i Wigury 99 Warszawa Polska;X-APPLE-RADIUS=500;X-TITLE=ul. Żwirki i Wigury 99:geo:20.987187,52.212567
END:VEVENT
END:VCALENDAR