BEGIN:VCALENDAR
VERSION:2.0
PRODID:-//Death Magnetic - ECPv5.10.1//NONSGML v1.0//EN
CALSCALE:GREGORIAN
METHOD:PUBLISH
X-WR-CALNAME:Death Magnetic
X-ORIGINAL-URL:https://deathmagnetic.pl
X-WR-CALDESC:Events for Death Magnetic
BEGIN:VTIMEZONE
TZID:Europe/Warsaw
BEGIN:DAYLIGHT
TZOFFSETFROM:+0100
TZOFFSETTO:+0200
TZNAME:CEST
DTSTART:20160327T010000
END:DAYLIGHT
BEGIN:STANDARD
TZOFFSETFROM:+0200
TZOFFSETTO:+0100
TZNAME:CET
DTSTART:20161030T010000
END:STANDARD
END:VTIMEZONE
BEGIN:VEVENT
DTSTART;TZID=Europe/Warsaw:20160319T183000
DTEND;TZID=Europe/Warsaw:20160319T183000
DTSTAMP:20260421T053454
CREATED:20160206T163037Z
LAST-MODIFIED:20160206T163037Z
UID:96960-1458412200-1458412200@deathmagnetic.pl
SUMMARY:Perurbator + Dan Terminus + Gost
DESCRIPTION:Zespoły:\nPerturbator\nDan Terminus \nGost \nBilety:\n50 zł (przedsprzedaż)\n60 zł (w dniu koncertu)
URL:https://deathmagnetic.pl/wydarzenie/perurbator-dan-terminus-gost/
LOCATION:Hydrozagadka\, 11 listopada 22\, Warszawa\, Polska
CATEGORIES:Koncerty,Polskie
ATTACH;FMTTYPE=image/jpeg:https://deathmagnetic.pl/wp-content/uploads/2016/02/perturbator.jpg
ORGANIZER;CN="KnockOut%20Productions":MAILTO:info@knockoutprod.net
GEO:52.259164;21.0363389
X-APPLE-STRUCTURED-LOCATION;VALUE=URI;X-ADDRESS=Hydrozagadka 11 listopada 22 Warszawa Polska;X-APPLE-RADIUS=500;X-TITLE=11 listopada 22:geo:21.0363389,52.259164
END:VEVENT
END:VCALENDAR